BEGIN:VCALENDAR
VERSION:2.0
PRODID:-//jEvents 2.0 for Joomla//EN
CALSCALE:GREGORIAN
METHOD:PUBLISH
BEGIN:VTIMEZONE
TZID:Europe/Vienna
BEGIN:STANDARD
DTSTART:20251026T020000
RDATE:20260329T030000
TZOFFSETFROM:+0200
TZOFFSETTO:+0100
TZNAME:Europe/Vienna CET
END:STANDARD
BEGIN:STANDARD
DTSTART:20261025T020000
RDATE:20270328T030000
TZOFFSETFROM:+0200
TZOFFSETTO:+0100
TZNAME:Europe/Vienna CET
END:STANDARD
BEGIN:STANDARD
DTSTART:20271031T020000
RDATE:20280326T030000
TZOFFSETFROM:+0200
TZOFFSETTO:+0100
TZNAME:Europe/Vienna CET
END:STANDARD
BEGIN:STANDARD
DTSTART:20281029T020000
RDATE:20290325T030000
TZOFFSETFROM:+0200
TZOFFSETTO:+0100
TZNAME:Europe/Vienna CET
END:STANDARD
BEGIN:STANDARD
DTSTART:20291028T020000
RDATE:20300331T030000
TZOFFSETFROM:+0200
TZOFFSETTO:+0100
TZNAME:Europe/Vienna CET
END:STANDARD
BEGIN:STANDARD
DTSTART:20301027T020000
RDATE:20310330T030000
TZOFFSETFROM:+0200
TZOFFSETTO:+0100
TZNAME:Europe/Vienna CET
END:STANDARD
BEGIN:STANDARD
DTSTART:20311026T020000
RDATE:20320328T030000
TZOFFSETFROM:+0200
TZOFFSETTO:+0100
TZNAME:Europe/Vienna CET
END:STANDARD
BEGIN:STANDARD
DTSTART:20321031T020000
RDATE:20330327T030000
TZOFFSETFROM:+0200
TZOFFSETTO:+0100
TZNAME:Europe/Vienna CET
END:STANDARD
BEGIN:STANDARD
DTSTART:20331030T020000
RDATE:20340326T030000
TZOFFSETFROM:+0200
TZOFFSETTO:+0100
TZNAME:Europe/Vienna CET
END:STANDARD
BEGIN:STANDARD
DTSTART:20341029T020000
RDATE:20350325T030000
TZOFFSETFROM:+0200
TZOFFSETTO:+0100
TZNAME:Europe/Vienna CET
END:STANDARD
BEGIN:DAYLIGHT
DTSTART:20250615T090000
RDATE:20251026T020000
TZOFFSETFROM:+0100
TZOFFSETTO:+0200
TZNAME:Europe/Vienna CEST
END:DAYLIGHT
BEGIN:DAYLIGHT
DTSTART:20260329T030000
RDATE:20261025T020000
TZOFFSETFROM:+0100
TZOFFSETTO:+0200
TZNAME:Europe/Vienna CEST
END:DAYLIGHT
BEGIN:DAYLIGHT
DTSTART:20270328T030000
RDATE:20271031T020000
TZOFFSETFROM:+0100
TZOFFSETTO:+0200
TZNAME:Europe/Vienna CEST
END:DAYLIGHT
BEGIN:DAYLIGHT
DTSTART:20280326T030000
RDATE:20281029T020000
TZOFFSETFROM:+0100
TZOFFSETTO:+0200
TZNAME:Europe/Vienna CEST
END:DAYLIGHT
BEGIN:DAYLIGHT
DTSTART:20290325T030000
RDATE:20291028T020000
TZOFFSETFROM:+0100
TZOFFSETTO:+0200
TZNAME:Europe/Vienna CEST
END:DAYLIGHT
BEGIN:DAYLIGHT
DTSTART:20300331T030000
RDATE:20301027T020000
TZOFFSETFROM:+0100
TZOFFSETTO:+0200
TZNAME:Europe/Vienna CEST
END:DAYLIGHT
BEGIN:DAYLIGHT
DTSTART:20310330T030000
RDATE:20311026T020000
TZOFFSETFROM:+0100
TZOFFSETTO:+0200
TZNAME:Europe/Vienna CEST
END:DAYLIGHT
BEGIN:DAYLIGHT
DTSTART:20320328T030000
RDATE:20321031T020000
TZOFFSETFROM:+0100
TZOFFSETTO:+0200
TZNAME:Europe/Vienna CEST
END:DAYLIGHT
BEGIN:DAYLIGHT
DTSTART:20330327T030000
RDATE:20331030T020000
TZOFFSETFROM:+0100
TZOFFSETTO:+0200
TZNAME:Europe/Vienna CEST
END:DAYLIGHT
BEGIN:DAYLIGHT
DTSTART:20340326T030000
RDATE:20341029T020000
TZOFFSETFROM:+0100
TZOFFSETTO:+0200
TZNAME:Europe/Vienna CEST
END:DAYLIGHT
END:VTIMEZONE
BEGIN:VEVENT
UID:
CATEGORIES:Workshop
SUMMARY:4. Austrian Life Science Day 2026
LOCATION:Palais Niederösterreich, Herrengasse 13, 1010 Vienna
DESCRIPTION;ENCODING=QUOTED-PRINTABLE:																																																																											
 																														Austrian Life Science Day 2026															
 																																																																											
 																																																																											
 																This year&rsquo;s conference focuses on clinical evidence t
 o support the development of drugs and medical devices.																				
 																																																																											
 																																																																											
 																																																																											
 																																																																											
 																																																																											
 																																																																											
 																																																																											
 																																																																											
 																																																																											
 																																																																											
 																																																																											
 																																																																											
 																																																																											
 																																																																											
 																																																																											
 																																																																											
 																																																																											
 																																																																											
 																																																																											
 																																																														\n\n									
 																																													Learn more about clinical tria
 ls, clinical investigations and evaluations, and expertise in Austria. Join
  in to gain insights from peers, and discuss new developments and funding o
 pportunities.\n																																																												
 																																																																											
 																																																																											
 																																																																											
 																																																																											
 																																																																											
 																																																																											
 																																																																											
 																																																																											
 																																																																											
 																																																																											
 																																																																											
 																																																																											
 																																																																											
 																																																				\n\n																			
 																																			b2match partnering to facilitate effecti
 ve networking at pre-arranged one-to-one meetings is available.\n										
 																																																																											
 																																																																											
 																																																																											
 																																																																											
 																																																																											
 																																																																											
 																																																																											
 																																																																											
 																																																																											
 																																																																											
 																																																																											
 																																																																											
 																																																																											
 																																																																											
 																											\n\n																																												
 										Organizers: LISAvienna and ecoplus on behalf of LISA - Life Scien
 ce Austria\n																																																					\n\n						
 																																																With support from: FFG and 
 aws\n																																																					\n\n													
 																																									Additional sponsors and visibility
  partners are welcome to join. Reach out to&nbsp;Elvira Kainersdorfer (This
  email address is being protected from spambots. You need JavaScript enable
 d to view it.
 //
 )&nbsp;for details.\n																																			
 																		\n\n																																																					
 	Registration will open on March 19, 2026.\n																															
 																						\n\n																																																	
 					As space is limited and participation is restricted, we encourage earl
 y registration and internal coordination to designate your representatives.
 \n																																																																									
 																																																																											
 																																																																											
 																																																																											
 																																																																											
 																																																																											
 																																																																											
 																																																																											
 																																																																											
 																																																																											
 																																																																											
 																																																																											
 																																																																											
 																																																																											
 																																																																											
 																																																																											
 																																																																											
 																																																																											
 																																						&nbsp;																															
 																																																																											
 																																																																											
 																																																																											
 																																																																											
 																																																																											
 																																																																											
 																																																																											
 																																																																											
 																																																																											
 																																																																											
 																																																																											
 																																																																											
 																																																																											
 																																																																											
 																																																																											
 																																																																											
 																																																																											
 																																																																											
 																																																																											
 																																																																											
 																																			&nbsp;																																		
 																																																																											
 																																																																											
 																																																																											
 																																																																											
 																																																																											
 																																													&nbsp;																								
 																																																																	&nbsp;				
 																																																																											
 																																																																											
 																																																																											
 																																																																											
 																																																																											
 																																																																											
 																																																																											
 																																																																											
 																																																																											
 																														When?																																								
 													\n\n																																																						Tues
 day\n																																																						16.06.2026\n				
 																																																		9-18:00h\n															
 																																																																											
 																																																																											
 																																																																											
 																																																																											
 																																																																											
 																																																																											
 																																																																											
 																																																																											
 																																																																											
 																																																																											
 																																																																											
 																																																																											
 																&nbsp;																																																					
 																																																																											
 																																																																											
 																																																																											
 																																																																											
 																																																																											
 																										&nbsp;																																											
 																																														&nbsp;																							
 																																																																											
 																																																																											
 																																																																											
 																																																																											
 																																																																											
 																																																																											
 																																																																											
 																																																																											
 																																																																											
 											Where?																																																					\n\n	
 																																																					Palais Nieder&ouml;ste
 rreich\n																																																						Herrengasse 1
 3\n																																																						1010 Vienna\n					
 																																																																											
 																																																																											
 																																																																											
 																																																																											
 																																																																											
 																																																																											
 																																																																											
 																																																																											
 																																																																											
 																																																																											
 																																																																											
 																																																																											
 																										&nbsp;																																											
 																																																																											
 																																																																											
 																																																																											
 																																																																											
 																																																																											
 																																				&nbsp;																																	
 																																																								&nbsp;													
 																																																																											
 																																																																											
 																																																																											
 																																																																											
 																																																																											
 																																																																											
 																																																																											
 																																																																											
 																																																																											
 																					What else to know?																																				
 																	\n\n																																																						
 Free of charge\n																																																						Seats
  are limited\n																																																						Registr
 ation mandatory\n																																																										
 																																																																											
 																																																																											
 																																																																											
 																																																																											
 																																																																											
 																																																																											
 																																																																											
 																																																																											
 																																																																											
 																																																																											
 																																																																											
 																																																																											
 																																																																											
 																																																																											
 																																																																											
 																																																																											
 																																																																											
 																																													\n\n	&nbsp;\n
CONTACT:https://www.lisavienna.at/de/veranstaltungen/detail/austrian-life-science-day-2026/
DTSTAMP:20260421T172548Z
DTSTART;TZID=Europe/Vienna:20260616T090000
DTEND;TZID=Europe/Vienna:20260616T180000
SEQUENCE:1
TRANSP:OPAQUE
END:VEVENT
END:VCALENDAR