BEGIN:VCALENDAR
VERSION:2.0
PRODID:-//jEvents 2.0 for Joomla//EN
CALSCALE:GREGORIAN
METHOD:PUBLISH
BEGIN:VTIMEZONE
TZID:Europe/Vienna
BEGIN:STANDARD
DTSTART:20251026T020000
RDATE:20260329T030000
TZOFFSETFROM:+0200
TZOFFSETTO:+0100
TZNAME:Europe/Vienna CET
END:STANDARD
BEGIN:STANDARD
DTSTART:20261025T020000
RDATE:20270328T030000
TZOFFSETFROM:+0200
TZOFFSETTO:+0100
TZNAME:Europe/Vienna CET
END:STANDARD
BEGIN:STANDARD
DTSTART:20271031T020000
RDATE:20280326T030000
TZOFFSETFROM:+0200
TZOFFSETTO:+0100
TZNAME:Europe/Vienna CET
END:STANDARD
BEGIN:STANDARD
DTSTART:20281029T020000
RDATE:20290325T030000
TZOFFSETFROM:+0200
TZOFFSETTO:+0100
TZNAME:Europe/Vienna CET
END:STANDARD
BEGIN:STANDARD
DTSTART:20291028T020000
RDATE:20300331T030000
TZOFFSETFROM:+0200
TZOFFSETTO:+0100
TZNAME:Europe/Vienna CET
END:STANDARD
BEGIN:STANDARD
DTSTART:20301027T020000
RDATE:20310330T030000
TZOFFSETFROM:+0200
TZOFFSETTO:+0100
TZNAME:Europe/Vienna CET
END:STANDARD
BEGIN:STANDARD
DTSTART:20311026T020000
RDATE:20320328T030000
TZOFFSETFROM:+0200
TZOFFSETTO:+0100
TZNAME:Europe/Vienna CET
END:STANDARD
BEGIN:STANDARD
DTSTART:20321031T020000
RDATE:20330327T030000
TZOFFSETFROM:+0200
TZOFFSETTO:+0100
TZNAME:Europe/Vienna CET
END:STANDARD
BEGIN:STANDARD
DTSTART:20331030T020000
RDATE:20340326T030000
TZOFFSETFROM:+0200
TZOFFSETTO:+0100
TZNAME:Europe/Vienna CET
END:STANDARD
BEGIN:STANDARD
DTSTART:20341029T020000
RDATE:20350325T030000
TZOFFSETFROM:+0200
TZOFFSETTO:+0100
TZNAME:Europe/Vienna CET
END:STANDARD
BEGIN:DAYLIGHT
DTSTART:20250524T100000
RDATE:20251026T020000
TZOFFSETFROM:+0100
TZOFFSETTO:+0200
TZNAME:Europe/Vienna CEST
END:DAYLIGHT
BEGIN:DAYLIGHT
DTSTART:20260329T030000
RDATE:20261025T020000
TZOFFSETFROM:+0100
TZOFFSETTO:+0200
TZNAME:Europe/Vienna CEST
END:DAYLIGHT
BEGIN:DAYLIGHT
DTSTART:20270328T030000
RDATE:20271031T020000
TZOFFSETFROM:+0100
TZOFFSETTO:+0200
TZNAME:Europe/Vienna CEST
END:DAYLIGHT
BEGIN:DAYLIGHT
DTSTART:20280326T030000
RDATE:20281029T020000
TZOFFSETFROM:+0100
TZOFFSETTO:+0200
TZNAME:Europe/Vienna CEST
END:DAYLIGHT
BEGIN:DAYLIGHT
DTSTART:20290325T030000
RDATE:20291028T020000
TZOFFSETFROM:+0100
TZOFFSETTO:+0200
TZNAME:Europe/Vienna CEST
END:DAYLIGHT
BEGIN:DAYLIGHT
DTSTART:20300331T030000
RDATE:20301027T020000
TZOFFSETFROM:+0100
TZOFFSETTO:+0200
TZNAME:Europe/Vienna CEST
END:DAYLIGHT
BEGIN:DAYLIGHT
DTSTART:20310330T030000
RDATE:20311026T020000
TZOFFSETFROM:+0100
TZOFFSETTO:+0200
TZNAME:Europe/Vienna CEST
END:DAYLIGHT
BEGIN:DAYLIGHT
DTSTART:20320328T030000
RDATE:20321031T020000
TZOFFSETFROM:+0100
TZOFFSETTO:+0200
TZNAME:Europe/Vienna CEST
END:DAYLIGHT
BEGIN:DAYLIGHT
DTSTART:20330327T030000
RDATE:20331030T020000
TZOFFSETFROM:+0100
TZOFFSETTO:+0200
TZNAME:Europe/Vienna CEST
END:DAYLIGHT
BEGIN:DAYLIGHT
DTSTART:20340326T030000
RDATE:20341029T020000
TZOFFSETFROM:+0100
TZOFFSETTO:+0200
TZNAME:Europe/Vienna CEST
END:DAYLIGHT
END:VTIMEZONE
BEGIN:VEVENT
UID:
CATEGORIES:Workshop
SUMMARY:Transglutaminases in biological processes
LOCATION:Padova, Italy
DESCRIPTION;ENCODING=QUOTED-PRINTABLE:<div class="post_grid__left">	<div class="col-md-10 col-lg-12 m-auto p-0">	
 	<p data-olk-copy-source="MessageBody">			The FEBS Advanced Lecture Course 
 &lsquo;Transglutaminases in biological processes&rsquo; will bring together
  an international and interdisciplinary community of researchers to explore
  current advances in transglutaminase biology and their relevance to health
  and disease. The course (which follows the FEBS Workshop &lsquo;Transgluta
 minases in human disease processes&rsquo; in 2024) aims to provide a compre
 hensive overview of the physiological functions of transglutaminase enzymes
 , including their roles in signal transduction, protein crosslinking, and e
 xtracellular matrix organisation, as well as their contribution to a broad 
 spectrum of pathological conditions. Topics covered will include cardiovasc
 ular and neurological diseases, cancer, inflammation and autoimmunity, fibr
 osis and tissue remodelling, metabolic disorders, and emerging disease cont
 exts, together with new experimental approaches and tools to study and modu
 late transglutaminase activity.</p>		<p>			The scientific programme is desi
 gned to offer advanced training and in-depth discussion, combining plenary 
 and keynote lectures with seven thematic sessions led by internationally re
 cognised experts. Each session will include invited talks alongside selecte
 d presentations from early-career researchers, promoting active participati
 on and scientific exchange across career stages. Young scientists will also
  be involved in moderating discussions and presenting their work through sh
 ort talks and poster flash presentations.</p>		<p>			In addition to the sci
 entific content, the course will place strong emphasis on training, network
 ing, and career development. Dedicated sessions will address career paths i
 n academia and industry, effective scientific communication, and funding op
 portunities, while ample time will be reserved for informal interactions an
 d social activities. Overall, the course will provide a stimulating and sup
 portive environment for learning, discussion, and collaboration, and will c
 ontribute to the continued development of the transglutaminase research com
 munity.</p>		<p>			<em>The course website is under construction. Please mon
 itor the <a href="https://www.febs.org/listings/advanced-courses/">Advanced
  Courses calendar</a> for when the link becomes available.</em></p>		<p cla
 ss="mb-0">			<b>Location:</b> Padova. Italy</p>		<p class="mb-0">			<b>Orga
 nizers:</b> Luigi Leanza, Elisabetta Verderio Edwards, Nicoletta Bianchi, J
 effrey Keillor, Jambrovics K&aacute;roly</p>	</div></div><p>	&nbsp;</p>
CONTACT:www.febs.org/event/transglutaminases-in-biological-processes/?utm_medium=email&utm_campaign=January 2026 news Read the l
DTSTAMP:20260424T042909Z
DTSTART;TZID=Europe/Vienna:20260525T100000
DTEND;TZID=Europe/Vienna:20260529T170000
SEQUENCE:1
TRANSP:OPAQUE
END:VEVENT
END:VCALENDAR