BEGIN:VCALENDAR
VERSION:2.0
PRODID:-//jEvents 2.0 for Joomla//EN
CALSCALE:GREGORIAN
METHOD:PUBLISH
BEGIN:VTIMEZONE
TZID:Europe/Vienna
BEGIN:STANDARD
DTSTART:20251026T020000
RDATE:20260329T030000
TZOFFSETFROM:+0200
TZOFFSETTO:+0100
TZNAME:Europe/Vienna CET
END:STANDARD
BEGIN:STANDARD
DTSTART:20261025T020000
RDATE:20270328T030000
TZOFFSETFROM:+0200
TZOFFSETTO:+0100
TZNAME:Europe/Vienna CET
END:STANDARD
BEGIN:STANDARD
DTSTART:20271031T020000
RDATE:20280326T030000
TZOFFSETFROM:+0200
TZOFFSETTO:+0100
TZNAME:Europe/Vienna CET
END:STANDARD
BEGIN:STANDARD
DTSTART:20281029T020000
RDATE:20290325T030000
TZOFFSETFROM:+0200
TZOFFSETTO:+0100
TZNAME:Europe/Vienna CET
END:STANDARD
BEGIN:STANDARD
DTSTART:20291028T020000
RDATE:20300331T030000
TZOFFSETFROM:+0200
TZOFFSETTO:+0100
TZNAME:Europe/Vienna CET
END:STANDARD
BEGIN:STANDARD
DTSTART:20301027T020000
RDATE:20310330T030000
TZOFFSETFROM:+0200
TZOFFSETTO:+0100
TZNAME:Europe/Vienna CET
END:STANDARD
BEGIN:STANDARD
DTSTART:20311026T020000
RDATE:20320328T030000
TZOFFSETFROM:+0200
TZOFFSETTO:+0100
TZNAME:Europe/Vienna CET
END:STANDARD
BEGIN:STANDARD
DTSTART:20321031T020000
RDATE:20330327T030000
TZOFFSETFROM:+0200
TZOFFSETTO:+0100
TZNAME:Europe/Vienna CET
END:STANDARD
BEGIN:STANDARD
DTSTART:20331030T020000
RDATE:20340326T030000
TZOFFSETFROM:+0200
TZOFFSETTO:+0100
TZNAME:Europe/Vienna CET
END:STANDARD
BEGIN:STANDARD
DTSTART:20341029T020000
RDATE:20350325T030000
TZOFFSETFROM:+0200
TZOFFSETTO:+0100
TZNAME:Europe/Vienna CET
END:STANDARD
BEGIN:DAYLIGHT
DTSTART:20250509T100000
RDATE:20251026T020000
TZOFFSETFROM:+0100
TZOFFSETTO:+0200
TZNAME:Europe/Vienna CEST
END:DAYLIGHT
BEGIN:DAYLIGHT
DTSTART:20260329T030000
RDATE:20261025T020000
TZOFFSETFROM:+0100
TZOFFSETTO:+0200
TZNAME:Europe/Vienna CEST
END:DAYLIGHT
BEGIN:DAYLIGHT
DTSTART:20270328T030000
RDATE:20271031T020000
TZOFFSETFROM:+0100
TZOFFSETTO:+0200
TZNAME:Europe/Vienna CEST
END:DAYLIGHT
BEGIN:DAYLIGHT
DTSTART:20280326T030000
RDATE:20281029T020000
TZOFFSETFROM:+0100
TZOFFSETTO:+0200
TZNAME:Europe/Vienna CEST
END:DAYLIGHT
BEGIN:DAYLIGHT
DTSTART:20290325T030000
RDATE:20291028T020000
TZOFFSETFROM:+0100
TZOFFSETTO:+0200
TZNAME:Europe/Vienna CEST
END:DAYLIGHT
BEGIN:DAYLIGHT
DTSTART:20300331T030000
RDATE:20301027T020000
TZOFFSETFROM:+0100
TZOFFSETTO:+0200
TZNAME:Europe/Vienna CEST
END:DAYLIGHT
BEGIN:DAYLIGHT
DTSTART:20310330T030000
RDATE:20311026T020000
TZOFFSETFROM:+0100
TZOFFSETTO:+0200
TZNAME:Europe/Vienna CEST
END:DAYLIGHT
BEGIN:DAYLIGHT
DTSTART:20320328T030000
RDATE:20321031T020000
TZOFFSETFROM:+0100
TZOFFSETTO:+0200
TZNAME:Europe/Vienna CEST
END:DAYLIGHT
BEGIN:DAYLIGHT
DTSTART:20330327T030000
RDATE:20331030T020000
TZOFFSETFROM:+0100
TZOFFSETTO:+0200
TZNAME:Europe/Vienna CEST
END:DAYLIGHT
BEGIN:DAYLIGHT
DTSTART:20340326T030000
RDATE:20341029T020000
TZOFFSETFROM:+0100
TZOFFSETTO:+0200
TZNAME:Europe/Vienna CEST
END:DAYLIGHT
END:VTIMEZONE
BEGIN:VEVENT
UID:
CATEGORIES:Workshop
SUMMARY:Lost in integration vol. 2 – Probing biomolecules with AI and experiments
LOCATION:Spetses Island, Greece
DESCRIPTION;ENCODING=QUOTED-PRINTABLE:	The course at a glance\n\n	Dear aspiring structural biologists,\n\n\n	We a
 re thrilled to invite you to the FEBS Advanced Course, Lost in&nbsp;Integra
 tion&nbsp;Vol. 2&nbsp;- probing biomolecules with&nbsp;AI and experiments w
 hich will take place from May 10 &ndash; 16, 2026 on the idyllic island of 
 Spetses in Greece. The course is&nbsp;aimed at PhD candidates and postdocto
 ral researchers interested in integrative structural biology.&nbsp;\n\n\n	I
 ntegrative structural biology is an interdisciplinary field that has seen e
 xplosive growth due to technological revolution in biological structure ana
 lysis. This field incorporates a wide range of techniques and advanced comp
 utational and machine learning approaches. When integrated, these technique
 s provide insights beyond static molecular structures, revealing dynamic in
 teractions and behaviours that are crucial for understanding biology and bi
 omedical research. Simply put, traditional structural biology has provided 
 high-resolution images of biomolecules but is limited to static representat
 ions; integrative structural biology allows researchers to observe molecula
 r movement and interactions in real-time within their biological environmen
 ts. It also brings into light entire new classes of biomolecules&mdash;in p
 articular, those that are dynamic and difficult to study as well as complex
 es of ever-increasing sizes. Thus, integrative structural biology not only 
 expands the range of methods used to study molecular structure and function
 , but also substantially expands the scope of problems that can be addresse
 d.&nbsp;\n\n\n	At this course, students will learn to understand, use, and 
 interpret data from a multitude of different techniques including cryo-elec
 tron microscopy, nuclear magnetic resonance spectroscopy, X-ray crystallogr
 aphy, cryo-electron tomography, small-angle X-ray scattering, mass spectrom
 etry, and single-molecule methods such as optical tweezers and F&ouml;rster
  resonance energy transfer. Further, students will learn how to integrate d
 ata using advanced computational and machine learning techniques.&nbsp;\n\n
 \n	The course will include plenary lectures by esteemed scientists, poster 
 sessions, panel discussions, journal club, group discussions, and a mentori
 ng session led by Professor&nbsp;Emeritus&nbsp;Jane Clarke (University of C
 ambridge). These sessions will allow participants to receive practical feed
 back on their research projects, both from their peers and the participatin
 g senior scientists. In addition to the scientific activities, social dinne
 rs and an excursion around the island will also be organized.&nbsp;\n\n\n	T
 he small, idyllic island of Spetses is a part of Saronic Islands archipelag
 o and easy to reach from Athens by ferry. Spetses has numerous restaurant a
 nd excursion possibilities within walking distance at a very affordable pri
 ce&nbsp;\n\n\n	Places are limited to 44 students and the cost of the course
  will be 500 EUR. To help facilitate participation, there are 8&nbsp;FEBS Y
 outh Travel Fund Grants&nbsp;available to help cover registration fees and 
 travel expenses.\n\n\n	We look forward to welcoming you in 2026.\n\n\n	Birt
 he B. Kragelund, Gregers Rom Andersen, Kresten Lindorff-Larsen and Rasmus K
 ock Flygaard\n	Course Organizers\n\n\n	This course is organised in collabor
 ation with the Integrative Structural Biology cluster at the University of 
 Copenhagen (ISBUC) and the Aarhus University Structural Biology and Biophys
 ics Initiative (AUSBI).\n\n\n	\n	&nbsp;\n\n\n	&nbsp;\n
CONTACT:probingbiomolecules2026.febsevents.org
DTSTAMP:20260421T200429Z
DTSTART;TZID=Europe/Vienna:20260510T100000
DTEND;TZID=Europe/Vienna:20260516T170000
SEQUENCE:1
TRANSP:OPAQUE
END:VEVENT
END:VCALENDAR