BEGIN:VCALENDAR
VERSION:2.0
PRODID:-//jEvents 2.0 for Joomla//EN
CALSCALE:GREGORIAN
METHOD:PUBLISH
BEGIN:VTIMEZONE
TZID:Europe/Vienna
BEGIN:STANDARD
DTSTART:20251026T020000
RDATE:20260329T030000
TZOFFSETFROM:+0200
TZOFFSETTO:+0100
TZNAME:Europe/Vienna CET
END:STANDARD
BEGIN:STANDARD
DTSTART:20261025T020000
RDATE:20270328T030000
TZOFFSETFROM:+0200
TZOFFSETTO:+0100
TZNAME:Europe/Vienna CET
END:STANDARD
BEGIN:STANDARD
DTSTART:20271031T020000
RDATE:20280326T030000
TZOFFSETFROM:+0200
TZOFFSETTO:+0100
TZNAME:Europe/Vienna CET
END:STANDARD
BEGIN:STANDARD
DTSTART:20281029T020000
RDATE:20290325T030000
TZOFFSETFROM:+0200
TZOFFSETTO:+0100
TZNAME:Europe/Vienna CET
END:STANDARD
BEGIN:STANDARD
DTSTART:20291028T020000
RDATE:20300331T030000
TZOFFSETFROM:+0200
TZOFFSETTO:+0100
TZNAME:Europe/Vienna CET
END:STANDARD
BEGIN:STANDARD
DTSTART:20301027T020000
RDATE:20310330T030000
TZOFFSETFROM:+0200
TZOFFSETTO:+0100
TZNAME:Europe/Vienna CET
END:STANDARD
BEGIN:STANDARD
DTSTART:20311026T020000
RDATE:20320328T030000
TZOFFSETFROM:+0200
TZOFFSETTO:+0100
TZNAME:Europe/Vienna CET
END:STANDARD
BEGIN:STANDARD
DTSTART:20321031T020000
RDATE:20330327T030000
TZOFFSETFROM:+0200
TZOFFSETTO:+0100
TZNAME:Europe/Vienna CET
END:STANDARD
BEGIN:STANDARD
DTSTART:20331030T020000
RDATE:20340326T030000
TZOFFSETFROM:+0200
TZOFFSETTO:+0100
TZNAME:Europe/Vienna CET
END:STANDARD
BEGIN:STANDARD
DTSTART:20341029T020000
RDATE:20350325T030000
TZOFFSETFROM:+0200
TZOFFSETTO:+0100
TZNAME:Europe/Vienna CET
END:STANDARD
BEGIN:DAYLIGHT
DTSTART:20250627T090000
RDATE:20251026T020000
TZOFFSETFROM:+0100
TZOFFSETTO:+0200
TZNAME:Europe/Vienna CEST
END:DAYLIGHT
BEGIN:DAYLIGHT
DTSTART:20260329T030000
RDATE:20261025T020000
TZOFFSETFROM:+0100
TZOFFSETTO:+0200
TZNAME:Europe/Vienna CEST
END:DAYLIGHT
BEGIN:DAYLIGHT
DTSTART:20270328T030000
RDATE:20271031T020000
TZOFFSETFROM:+0100
TZOFFSETTO:+0200
TZNAME:Europe/Vienna CEST
END:DAYLIGHT
BEGIN:DAYLIGHT
DTSTART:20280326T030000
RDATE:20281029T020000
TZOFFSETFROM:+0100
TZOFFSETTO:+0200
TZNAME:Europe/Vienna CEST
END:DAYLIGHT
BEGIN:DAYLIGHT
DTSTART:20290325T030000
RDATE:20291028T020000
TZOFFSETFROM:+0100
TZOFFSETTO:+0200
TZNAME:Europe/Vienna CEST
END:DAYLIGHT
BEGIN:DAYLIGHT
DTSTART:20300331T030000
RDATE:20301027T020000
TZOFFSETFROM:+0100
TZOFFSETTO:+0200
TZNAME:Europe/Vienna CEST
END:DAYLIGHT
BEGIN:DAYLIGHT
DTSTART:20310330T030000
RDATE:20311026T020000
TZOFFSETFROM:+0100
TZOFFSETTO:+0200
TZNAME:Europe/Vienna CEST
END:DAYLIGHT
BEGIN:DAYLIGHT
DTSTART:20320328T030000
RDATE:20321031T020000
TZOFFSETFROM:+0100
TZOFFSETTO:+0200
TZNAME:Europe/Vienna CEST
END:DAYLIGHT
BEGIN:DAYLIGHT
DTSTART:20330327T030000
RDATE:20331030T020000
TZOFFSETFROM:+0100
TZOFFSETTO:+0200
TZNAME:Europe/Vienna CEST
END:DAYLIGHT
BEGIN:DAYLIGHT
DTSTART:20340326T030000
RDATE:20341029T020000
TZOFFSETFROM:+0100
TZOFFSETTO:+0200
TZNAME:Europe/Vienna CEST
END:DAYLIGHT
END:VTIMEZONE
BEGIN:VEVENT
UID:
CATEGORIES:Kongress
SUMMARY:20th European Congress on Biotechnology (ECB2026)
LOCATION:Antwerp, Belgium
DESCRIPTION;ENCODING=QUOTED-PRINTABLE:<p>	The registration and abstract submission for the <strong>20th European 
 Congress on Biotechnology (ECB2026)</strong>, taking place on <strong>28 Ju
 ne&ndash;1 July 2026 in Antwerp, Belgium</strong>, are now <strong>open</st
 rong>. This 20<sup>th</sup> edition of the Congress will focus on the theme
  &ldquo;Shaping tomorrow: Biotechnology for Health, Food, Energy, Environme
 nt.&rdquo;</p><p>	As an <strong>EFB Institutional Member</strong>, you are 
 entitled to an <strong>exclusive 10% discount</strong> on your registration
  fee using the code <strong>EFBIM10</strong>.</p><p>	&nbsp;</p><p>	<strong>
 Why choose ECB2026?</strong></p><ul>	<li>		<strong><u>World-class scientifi
 c programme with real impact</u></strong></li></ul><p>	The programme featur
 es:</p><ul>	<li>		<strong>Daily plenary lectures</strong> from global leade
 rs in biotechnology</li>	<li>		<strong>Four parallel streams of symposia</s
 trong></li>	<li>		Sessions addressing critical challenges in <strong>health
 </strong>, <strong>food security</strong>, <strong>energy</strong>, <strong
 >climate</strong>, and <strong>environmental sustainability</strong></li></
 ul><ul>	<li>		<strong><u>A global community</u></strong></li></ul><p>	Join 
 <strong>800+ participants from over 60 countries</strong>, with leading sci
 entists, industry experts, startups, and international partners:</p><ul>	<l
 i>		<strong>VIB - Flemish Institute for Biotechnology</strong>, celebrating
  its <strong>30th anniversary</strong></li>	<li>		<strong>AFOB &ndash; Asia
 n Federation of Biotechnology</strong>, strengthening a long-standing inter
 national collaboration</li></ul><ul>	<li>		<strong><u>High-visibility oppor
 tunities for your researchers</u></strong></li></ul><p>	ECB supports the <s
 trong>next generation of scientists</strong>. We invite you to submit abstr
 acts for: <strong>oral presentations, flash talks </strong>and<strong> post
 ers.</strong></p><ul>	<li>		<strong><u>Industry access </u></strong></li></
 ul><p>	ECB2026 features a <strong>trade exhibition</strong>, sponsor presen
 tations, and satellite events. For Institutional Members, this is an opport
 unity to:</p><ul>	<li>		Showcase technologies</li>	<li>		Explore collaborat
 ion prospects</li>	<li>		Connect with key figures shaping the biotechnology
  landscape</li></ul><p>	&nbsp;</p><p>	<strong>Sponsorship and exhibition op
 portunities</strong></p><p>	We offer a range of sponsorship and exhibition 
 packages for organisations aiming to highlight their innovations or enhance
  visibility in the global biotech community. Institutional Members benefit 
 from <strong>discounted exhibition space</strong>. If your organisation is 
 considering a presence at ECB2026, we will be glad to explore tailored oppo
 rtunities with you. Please contact us at <strong><span id="cloak68605">This
  email address is being protected from spambots. You need JavaScript enable
 d to view it.</span><script type='text/javascript'>
 //<!--
 document.getEl
 ementById('cloak68605').innerHTML = '';
 var prefix = '&#109;a' + 'i&#108;'
  + '&#116;o';
 var path = 'hr' + 'ef' + '=';
 var addy68605 = 'sp&#111;ns&#
 111;rsh&#105;p.&#101;cb' + '&#64;';
 addy68605 = addy68605 + 'tf&#105;l&#11
 1;d&#101;st&#97;r' + '&#46;' + 'c&#111;m';
 document.getElementById('cloak6
 8605').innerHTML += '<a ' + path + '\'' + prefix + ':' + addy68605 + '\'>' 
 + addy68605+'<\/a>';
 //-->
 </script></strong>.</p><p>	&nbsp;</p>
CONTACT:https://efbiotechnology.org/sections/events_european_congress_on_biotechnology
DTSTAMP:20260422T020914Z
DTSTART;TZID=Europe/Vienna:20260628T090000
DTEND;TZID=Europe/Vienna:20260701T170000
SEQUENCE:1
TRANSP:OPAQUE
END:VEVENT
END:VCALENDAR