BEGIN:VCALENDAR
VERSION:2.0
PRODID:-//jEvents 2.0 for Joomla//EN
CALSCALE:GREGORIAN
METHOD:PUBLISH
BEGIN:VTIMEZONE
TZID:Europe/Vienna
BEGIN:STANDARD
DTSTART:20251026T020000
RDATE:20260329T030000
TZOFFSETFROM:+0200
TZOFFSETTO:+0100
TZNAME:Europe/Vienna CET
END:STANDARD
BEGIN:STANDARD
DTSTART:20261025T020000
RDATE:20270328T030000
TZOFFSETFROM:+0200
TZOFFSETTO:+0100
TZNAME:Europe/Vienna CET
END:STANDARD
BEGIN:STANDARD
DTSTART:20271031T020000
RDATE:20280326T030000
TZOFFSETFROM:+0200
TZOFFSETTO:+0100
TZNAME:Europe/Vienna CET
END:STANDARD
BEGIN:STANDARD
DTSTART:20281029T020000
RDATE:20290325T030000
TZOFFSETFROM:+0200
TZOFFSETTO:+0100
TZNAME:Europe/Vienna CET
END:STANDARD
BEGIN:STANDARD
DTSTART:20291028T020000
RDATE:20300331T030000
TZOFFSETFROM:+0200
TZOFFSETTO:+0100
TZNAME:Europe/Vienna CET
END:STANDARD
BEGIN:STANDARD
DTSTART:20301027T020000
RDATE:20310330T030000
TZOFFSETFROM:+0200
TZOFFSETTO:+0100
TZNAME:Europe/Vienna CET
END:STANDARD
BEGIN:STANDARD
DTSTART:20311026T020000
RDATE:20320328T030000
TZOFFSETFROM:+0200
TZOFFSETTO:+0100
TZNAME:Europe/Vienna CET
END:STANDARD
BEGIN:STANDARD
DTSTART:20321031T020000
RDATE:20330327T030000
TZOFFSETFROM:+0200
TZOFFSETTO:+0100
TZNAME:Europe/Vienna CET
END:STANDARD
BEGIN:STANDARD
DTSTART:20331030T020000
RDATE:20340326T030000
TZOFFSETFROM:+0200
TZOFFSETTO:+0100
TZNAME:Europe/Vienna CET
END:STANDARD
BEGIN:STANDARD
DTSTART:20341029T020000
RDATE:20350325T030000
TZOFFSETFROM:+0200
TZOFFSETTO:+0100
TZNAME:Europe/Vienna CET
END:STANDARD
BEGIN:DAYLIGHT
DTSTART:20250922T090000
RDATE:20251026T020000
TZOFFSETFROM:+0100
TZOFFSETTO:+0200
TZNAME:Europe/Vienna CEST
END:DAYLIGHT
BEGIN:DAYLIGHT
DTSTART:20260329T030000
RDATE:20261025T020000
TZOFFSETFROM:+0100
TZOFFSETTO:+0200
TZNAME:Europe/Vienna CEST
END:DAYLIGHT
BEGIN:DAYLIGHT
DTSTART:20270328T030000
RDATE:20271031T020000
TZOFFSETFROM:+0100
TZOFFSETTO:+0200
TZNAME:Europe/Vienna CEST
END:DAYLIGHT
BEGIN:DAYLIGHT
DTSTART:20280326T030000
RDATE:20281029T020000
TZOFFSETFROM:+0100
TZOFFSETTO:+0200
TZNAME:Europe/Vienna CEST
END:DAYLIGHT
BEGIN:DAYLIGHT
DTSTART:20290325T030000
RDATE:20291028T020000
TZOFFSETFROM:+0100
TZOFFSETTO:+0200
TZNAME:Europe/Vienna CEST
END:DAYLIGHT
BEGIN:DAYLIGHT
DTSTART:20300331T030000
RDATE:20301027T020000
TZOFFSETFROM:+0100
TZOFFSETTO:+0200
TZNAME:Europe/Vienna CEST
END:DAYLIGHT
BEGIN:DAYLIGHT
DTSTART:20310330T030000
RDATE:20311026T020000
TZOFFSETFROM:+0100
TZOFFSETTO:+0200
TZNAME:Europe/Vienna CEST
END:DAYLIGHT
BEGIN:DAYLIGHT
DTSTART:20320328T030000
RDATE:20321031T020000
TZOFFSETFROM:+0100
TZOFFSETTO:+0200
TZNAME:Europe/Vienna CEST
END:DAYLIGHT
BEGIN:DAYLIGHT
DTSTART:20330327T030000
RDATE:20331030T020000
TZOFFSETFROM:+0100
TZOFFSETTO:+0200
TZNAME:Europe/Vienna CEST
END:DAYLIGHT
BEGIN:DAYLIGHT
DTSTART:20340326T030000
RDATE:20341029T020000
TZOFFSETFROM:+0100
TZOFFSETTO:+0200
TZNAME:Europe/Vienna CEST
END:DAYLIGHT
END:VTIMEZONE
BEGIN:VEVENT
UID:
CATEGORIES:Kongress
SUMMARY:ILMAC Lausanne 2026 - Die führende Chemie- und Life-Sciences-Fachmesse in der Schweiz
LOCATION:Lausanne
DESCRIPTION;ENCODING=QUOTED-PRINTABLE:<p>	Die ILMAC Lausanne ist die f&uuml;hrende Fachmesse f&uuml;r die Chemie-
  und Life-Sciences-Industrie in der Schweiz. Sie findet am <strong>23.&ndas
 h;24. September 2026</strong> im Zentrum des Westschweizer Life-Sciences-Cl
 usters statt &ndash; einer Region, in der unter anderem <strong>Lonza Group
 , Nestl&eacute; S.A., UCB S.A.</strong> sowie zahlreiche Start-ups und Spin
 -offs der renommierten <strong>&Eacute;cole polytechnique f&eacute;d&eacute
 ;rale de Lausanne (EPFL</strong>) angesiedelt sind.</p><p>	Die ILMAC Lausan
 ne erfreut sich gro&szlig;er Beliebtheit bei Ausstellern und Fachbesuchern:
  Im Vergleich zur Ausgabe 2022 verzeichnete die Messe 2024 <strong>67 % meh
 r Besucher </strong>und <strong>25 % mehr Aussteller</strong>. F&uuml;r 202
 6 erwarten wir rund <strong>3.500 Besucher</strong> und <strong>220 Ausstel
 ler</strong>.</p><p>	Besonders gesch&auml;tzt werden die hochwertigen Netwo
 rking-M&ouml;glichkeiten. Die Teilnahme ist einfach und effizient:&nbsp;.</
 p><p>	Weitere Informationen finden Sie hier:</p><ul>	<li>		<strong>Themen u
 nd Bereiche</strong>: <a href="https://www.ilmac.ch/basel/themen/" onclick=
 "window.open(this.href, '', 'resizable=no,status=no,location=no,toolbar=no,
 menubar=no,fullscreen=no,scrollbars=no,dependent=no'); return false;">https
 ://www.ilmac.ch/basel/themen/</a></li>	<li>		<strong>Preise, Konditionen &a
 mp; Standpakete</strong>: <a href="https://www.ilmac.ch/lausanne/ausstellen
 /on-site-teilnahme/" onclick="window.open(this.href, '', 'resizable=no,stat
 us=no,location=no,toolbar=no,menubar=no,fullscreen=no,scrollbars=no,depende
 nt=no'); return false;">https://www.ilmac.ch/lausanne/ausstellen/on-site-te
 ilnahme/</a></li>	<li>		<strong>Anmeldeformular</strong>: <a href="https://
 forms.mch-group.com/formcycle/form/provide/2805/?lang=de" onclick="window.o
 pen(this.href, '', 'resizable=no,status=no,location=no,toolbar=no,menubar=n
 o,fullscreen=no,scrollbars=no,dependent=no'); return false;">https://forms.
 mch-group.com/formcycle/form/provide/2805/?lang=de</a></li></ul><p>	<strong
 >Fr&uuml;hbucher-Vorteil</strong>: Bei einer Anmeldung bis <strong>31. Deze
 mber 2025</strong> erhalten Sie <strong>5 % Rabatt</strong> auf alle Standp
 akete. Au&szlig;erdem sichern Sie sich damit eine <strong>bevorzugte Standp
 latzvergabe</strong> <strong>im Februar/M&auml;rz 2026</strong>. Selbstvers
 t&auml;ndlich k&ouml;nnen Sie <strong>bis zur Platzierungszusage jederzeit 
 kostenlos von der Anmeldung zur&uuml;cktreten</strong>. Die Platzierungsvor
 schl&auml;ge versenden wir voraussichtlich im M&auml;rz 2026. Bitte beachte
 n Sie: Bis dahin k&ouml;nnen wir keinen Hallenplan zur Verf&uuml;gung stell
 en.</p><p>	&nbsp;</p>
CONTACT:https://www.ilmac.ch/basel/besuchen/
DTSTAMP:20260422T060016Z
DTSTART;TZID=Europe/Vienna:20260923T090000
DTEND;TZID=Europe/Vienna:20260924T180000
SEQUENCE:1
TRANSP:OPAQUE
END:VEVENT
END:VCALENDAR