BEGIN:VCALENDAR
VERSION:2.0
PRODID:-//jEvents 2.0 for Joomla//EN
CALSCALE:GREGORIAN
METHOD:PUBLISH
BEGIN:VTIMEZONE
TZID:Europe/Vienna
BEGIN:STANDARD
DTSTART:20251026T020000
RDATE:20260329T030000
TZOFFSETFROM:+0200
TZOFFSETTO:+0100
TZNAME:Europe/Vienna CET
END:STANDARD
BEGIN:STANDARD
DTSTART:20261025T020000
RDATE:20270328T030000
TZOFFSETFROM:+0200
TZOFFSETTO:+0100
TZNAME:Europe/Vienna CET
END:STANDARD
BEGIN:STANDARD
DTSTART:20271031T020000
RDATE:20280326T030000
TZOFFSETFROM:+0200
TZOFFSETTO:+0100
TZNAME:Europe/Vienna CET
END:STANDARD
BEGIN:STANDARD
DTSTART:20281029T020000
RDATE:20290325T030000
TZOFFSETFROM:+0200
TZOFFSETTO:+0100
TZNAME:Europe/Vienna CET
END:STANDARD
BEGIN:STANDARD
DTSTART:20291028T020000
RDATE:20300331T030000
TZOFFSETFROM:+0200
TZOFFSETTO:+0100
TZNAME:Europe/Vienna CET
END:STANDARD
BEGIN:STANDARD
DTSTART:20301027T020000
RDATE:20310330T030000
TZOFFSETFROM:+0200
TZOFFSETTO:+0100
TZNAME:Europe/Vienna CET
END:STANDARD
BEGIN:STANDARD
DTSTART:20311026T020000
RDATE:20320328T030000
TZOFFSETFROM:+0200
TZOFFSETTO:+0100
TZNAME:Europe/Vienna CET
END:STANDARD
BEGIN:STANDARD
DTSTART:20321031T020000
RDATE:20330327T030000
TZOFFSETFROM:+0200
TZOFFSETTO:+0100
TZNAME:Europe/Vienna CET
END:STANDARD
BEGIN:STANDARD
DTSTART:20331030T020000
RDATE:20340326T030000
TZOFFSETFROM:+0200
TZOFFSETTO:+0100
TZNAME:Europe/Vienna CET
END:STANDARD
BEGIN:STANDARD
DTSTART:20341029T020000
RDATE:20350325T030000
TZOFFSETFROM:+0200
TZOFFSETTO:+0100
TZNAME:Europe/Vienna CET
END:STANDARD
BEGIN:DAYLIGHT
DTSTART:20250630T090000
RDATE:20251026T020000
TZOFFSETFROM:+0100
TZOFFSETTO:+0200
TZNAME:Europe/Vienna CEST
END:DAYLIGHT
BEGIN:DAYLIGHT
DTSTART:20260329T030000
RDATE:20261025T020000
TZOFFSETFROM:+0100
TZOFFSETTO:+0200
TZNAME:Europe/Vienna CEST
END:DAYLIGHT
BEGIN:DAYLIGHT
DTSTART:20270328T030000
RDATE:20271031T020000
TZOFFSETFROM:+0100
TZOFFSETTO:+0200
TZNAME:Europe/Vienna CEST
END:DAYLIGHT
BEGIN:DAYLIGHT
DTSTART:20280326T030000
RDATE:20281029T020000
TZOFFSETFROM:+0100
TZOFFSETTO:+0200
TZNAME:Europe/Vienna CEST
END:DAYLIGHT
BEGIN:DAYLIGHT
DTSTART:20290325T030000
RDATE:20291028T020000
TZOFFSETFROM:+0100
TZOFFSETTO:+0200
TZNAME:Europe/Vienna CEST
END:DAYLIGHT
BEGIN:DAYLIGHT
DTSTART:20300331T030000
RDATE:20301027T020000
TZOFFSETFROM:+0100
TZOFFSETTO:+0200
TZNAME:Europe/Vienna CEST
END:DAYLIGHT
BEGIN:DAYLIGHT
DTSTART:20310330T030000
RDATE:20311026T020000
TZOFFSETFROM:+0100
TZOFFSETTO:+0200
TZNAME:Europe/Vienna CEST
END:DAYLIGHT
BEGIN:DAYLIGHT
DTSTART:20320328T030000
RDATE:20321031T020000
TZOFFSETFROM:+0100
TZOFFSETTO:+0200
TZNAME:Europe/Vienna CEST
END:DAYLIGHT
BEGIN:DAYLIGHT
DTSTART:20330327T030000
RDATE:20331030T020000
TZOFFSETFROM:+0100
TZOFFSETTO:+0200
TZNAME:Europe/Vienna CEST
END:DAYLIGHT
BEGIN:DAYLIGHT
DTSTART:20340326T030000
RDATE:20341029T020000
TZOFFSETFROM:+0100
TZOFFSETTO:+0200
TZNAME:Europe/Vienna CEST
END:DAYLIGHT
END:VTIMEZONE
BEGIN:VEVENT
UID:
CATEGORIES:Kongress
SUMMARY:Eurobiotech 2026
LOCATION:Krakow, Poland
DESCRIPTION;ENCODING=QUOTED-PRINTABLE:<div class="container-fluid" style="">	<div class="container container--wit
 h-paddings" style="padding-top:0px;padding-bottom:0px;">		<div class="widge
 t widget-content content">			<p>				<span style="font-size: 16px;">Dear Col
 leagues ,</span></p>			<p>				<span style="font-size: 16px;">We cordially i
 nvite you to the upcoming 10th anniversary <strong>&nbsp;Central European C
 ongress of Life Sciences EUROBIOTECH 2026</strong>, which will be held on <
 strong>2-3 July 2026</strong> in <strong>Krak&oacute;w, Poland</strong>.</s
 pan></p>			<p>				<span style="font-size: 16px;">EUROBIOTECH has solidified
  its reputation within the academic life science community in Central Europ
 e. &nbsp;Since its inception in 2007, the event has grown to encompass not 
 only academic discussions, but also an exhibition featuring biotechnology c
 ompanies. Following the successful introduction of sessions focused on comm
 ercial research in previous editions, these will be extended this year. By 
 bringing together experts from academia and the commercial sector, the cong
 ress aims to foster the advancement of translational research.</span></p>		
 	<p>				<span style="font-size: 16px;">The 10th EUROBIOTECH Congress will u
 nite specialists from diverse areas of life sciences, creating a dynamic en
 vironment for networking and sharing knowledge that fosters new connections
  and interdisciplinary collaborations. Key topics to be addressed at the ev
 ent encompass cell biology, structural biology, computational biology and A
 I, medical biotechnology, plant biotechnology, and the intersection of biot
 ech research with business. Attendees will have a unique opportunity to pre
 sent their work and stay informed about the latest trends influencing the a
 cademic and biotech sectors. For early-career professionals, this event off
 ers an invaluable chance to enhance their careers through meaningful networ
 king and collaboration opportunities.</span></p>			<p>				<span style="font
 -size: 16px;">10<sup>th</sup> Eurobiotech congress is organized jointly by 
 Malopolska Centre of Biotechnology of the Jagiellonian University and Targi
  w Krakowie Ltd.</span></p>			<p>				<span style="font-size: 16px;">We eage
 rly anticipate your participation, as this is a valuable opportunity to con
 nect and forge relationships across academic fields and with industry profe
 ssionals.</span></p>			<p style="text-align: right;">				<span style="font-
 size: 16px;">On behalf of the organizing committee,</span></p>			<p style="
 text-align: right;">				<span style="font-size: 16px;">prof. Grzegorz Dubin
 , Chai</span>r</p>		</div>	</div></div><p>	&nbsp;</p>
CONTACT:https://eurobiotech.krakow.pl/?utm_source=newsletter&utm_medium=email&utm_term=2025-08-04&utm_campaign=Updated+date+for+
DTSTAMP:20260419T163915Z
DTSTART;TZID=Europe/Vienna:20260701T090000
DTEND;TZID=Europe/Vienna:20260702T180000
SEQUENCE:1
TRANSP:OPAQUE
END:VEVENT
END:VCALENDAR