BEGIN:VCALENDAR
VERSION:2.0
PRODID:-//jEvents 2.0 for Joomla//EN
CALSCALE:GREGORIAN
METHOD:PUBLISH
BEGIN:VTIMEZONE
TZID:Europe/Vienna
BEGIN:STANDARD
DTSTART:20240324T090000
RDATE:20240331T030000
TZOFFSETFROM:+0200
TZOFFSETTO:+0100
TZNAME:Europe/Vienna CET
END:STANDARD
BEGIN:STANDARD
DTSTART:20241027T020000
RDATE:20250330T030000
TZOFFSETFROM:+0200
TZOFFSETTO:+0100
TZNAME:Europe/Vienna CET
END:STANDARD
BEGIN:STANDARD
DTSTART:20251026T020000
RDATE:20260329T030000
TZOFFSETFROM:+0200
TZOFFSETTO:+0100
TZNAME:Europe/Vienna CET
END:STANDARD
BEGIN:STANDARD
DTSTART:20261025T020000
RDATE:20270328T030000
TZOFFSETFROM:+0200
TZOFFSETTO:+0100
TZNAME:Europe/Vienna CET
END:STANDARD
BEGIN:STANDARD
DTSTART:20271031T020000
RDATE:20280326T030000
TZOFFSETFROM:+0200
TZOFFSETTO:+0100
TZNAME:Europe/Vienna CET
END:STANDARD
BEGIN:STANDARD
DTSTART:20281029T020000
RDATE:20290325T030000
TZOFFSETFROM:+0200
TZOFFSETTO:+0100
TZNAME:Europe/Vienna CET
END:STANDARD
BEGIN:STANDARD
DTSTART:20291028T020000
RDATE:20300331T030000
TZOFFSETFROM:+0200
TZOFFSETTO:+0100
TZNAME:Europe/Vienna CET
END:STANDARD
BEGIN:STANDARD
DTSTART:20301027T020000
RDATE:20310330T030000
TZOFFSETFROM:+0200
TZOFFSETTO:+0100
TZNAME:Europe/Vienna CET
END:STANDARD
BEGIN:STANDARD
DTSTART:20311026T020000
RDATE:20320328T030000
TZOFFSETFROM:+0200
TZOFFSETTO:+0100
TZNAME:Europe/Vienna CET
END:STANDARD
BEGIN:STANDARD
DTSTART:20321031T020000
RDATE:20330327T030000
TZOFFSETFROM:+0200
TZOFFSETTO:+0100
TZNAME:Europe/Vienna CET
END:STANDARD
BEGIN:STANDARD
DTSTART:20331030T020000
RDATE:20340326T030000
TZOFFSETFROM:+0200
TZOFFSETTO:+0100
TZNAME:Europe/Vienna CET
END:STANDARD
BEGIN:STANDARD
DTSTART:20341029T020000
RDATE:20350325T030000
TZOFFSETFROM:+0200
TZOFFSETTO:+0100
TZNAME:Europe/Vienna CET
END:STANDARD
BEGIN:DAYLIGHT
DTSTART:20240331T030000
RDATE:20241027T020000
TZOFFSETFROM:+0100
TZOFFSETTO:+0200
TZNAME:Europe/Vienna CEST
END:DAYLIGHT
BEGIN:DAYLIGHT
DTSTART:20250330T030000
RDATE:20251026T020000
TZOFFSETFROM:+0100
TZOFFSETTO:+0200
TZNAME:Europe/Vienna CEST
END:DAYLIGHT
BEGIN:DAYLIGHT
DTSTART:20260329T030000
RDATE:20261025T020000
TZOFFSETFROM:+0100
TZOFFSETTO:+0200
TZNAME:Europe/Vienna CEST
END:DAYLIGHT
BEGIN:DAYLIGHT
DTSTART:20270328T030000
RDATE:20271031T020000
TZOFFSETFROM:+0100
TZOFFSETTO:+0200
TZNAME:Europe/Vienna CEST
END:DAYLIGHT
BEGIN:DAYLIGHT
DTSTART:20280326T030000
RDATE:20281029T020000
TZOFFSETFROM:+0100
TZOFFSETTO:+0200
TZNAME:Europe/Vienna CEST
END:DAYLIGHT
BEGIN:DAYLIGHT
DTSTART:20290325T030000
RDATE:20291028T020000
TZOFFSETFROM:+0100
TZOFFSETTO:+0200
TZNAME:Europe/Vienna CEST
END:DAYLIGHT
BEGIN:DAYLIGHT
DTSTART:20300331T030000
RDATE:20301027T020000
TZOFFSETFROM:+0100
TZOFFSETTO:+0200
TZNAME:Europe/Vienna CEST
END:DAYLIGHT
BEGIN:DAYLIGHT
DTSTART:20310330T030000
RDATE:20311026T020000
TZOFFSETFROM:+0100
TZOFFSETTO:+0200
TZNAME:Europe/Vienna CEST
END:DAYLIGHT
BEGIN:DAYLIGHT
DTSTART:20320328T030000
RDATE:20321031T020000
TZOFFSETFROM:+0100
TZOFFSETTO:+0200
TZNAME:Europe/Vienna CEST
END:DAYLIGHT
BEGIN:DAYLIGHT
DTSTART:20330327T030000
RDATE:20331030T020000
TZOFFSETFROM:+0100
TZOFFSETTO:+0200
TZNAME:Europe/Vienna CEST
END:DAYLIGHT
BEGIN:DAYLIGHT
DTSTART:20340326T030000
RDATE:20341029T020000
TZOFFSETFROM:+0100
TZOFFSETTO:+0200
TZNAME:Europe/Vienna CEST
END:DAYLIGHT
END:VTIMEZONE
BEGIN:VEVENT
UID:
CATEGORIES:sonstige Veranstaltung
SUMMARY:Free Seminar: Pharmarichtlinien & Datenintegrität – mit praxisnahen Lösungen
LOCATION:Technologiezentrum von Anton Paar,  Anton-Paar-Straße 20, 8054 Graz
DESCRIPTION;ENCODING=QUOTED-PRINTABLE:<p>	Graz, Austria | Pharmarichtlinien und GxP-Datenintegrit&auml;t stehen i
 m Mittelpunkt des 1. Pharma Testing<br />	Days von Anton Paar Austria am 25
 . M&auml;rz 2025 im Headquarter in der Anton Paar Stra&szlig;e 20. &nbsp;<b
 r />	<br />	Das Seminar bietet praxisnahe L&ouml;sungsans&auml;tze und eine
  exklusive Plattform f&uuml;r Fachleute aus der<br />	Pharmazie, Medizin- u
 nd Kosmetikbranche, um essenzielle Einblicke in die aktuellen Anforderungen
  und<br />	bew&auml;hrte Methoden f&uuml;r die Implementierung eines stabil
 en Datenintegrit&auml;tssystems zu erhalten. Geleitet wird<br />	die Verans
 taltung von Mag. Georg Roth-Kapori, Part des Global Pharma Teams bei Anton 
 Paar, zusammen<br />	mit Keynote-Speaker Dr. Timo G. Kretzschmar, der zum T
 hema: &bdquo;How Cloud and AI Are Shaking Up Data<br />	Integrity, Annex 11
 , and Regulatory Compliance&rdquo; referieren wird. &nbsp;</p><p>	Die Veran
 staltung ist<strong> kostenlos.</strong></p><p>	<strong>Location: </strong>
 Technologiezentrum von Anton Paar,&nbsp; Anton-Paar-Stra&szlig;e 20, 8054 G
 raz, statt.</p><p>	<strong>Programm und Anmeldung</strong> finden sich <a h
 ref="https://www.anton- paar.com/pharma-testing-day" onclick="window.open(t
 his.href, '', 'resizable=no,status=no,location=no,toolbar=no,menubar=no,ful
 lscreen=no,scrollbars=no,dependent=no'); return false;">hier.</a>&nbsp;<br 
 />	<br />	<br />	&nbsp;</p>
CONTACT:https://www.anton- paar.com/pharma-testing-day
DTSTAMP:20260422T140237Z
DTSTART;TZID=Europe/Vienna:20250325T090000
DTEND;TZID=Europe/Vienna:20250325T160000
SEQUENCE:1
TRANSP:OPAQUE
END:VEVENT
END:VCALENDAR