BEGIN:VCALENDAR
VERSION:2.0
PRODID:-//jEvents 2.0 for Joomla//EN
CALSCALE:GREGORIAN
METHOD:PUBLISH
BEGIN:VTIMEZONE
TZID:Europe/Vienna
BEGIN:STANDARD
DTSTART:20240324T100000
RDATE:20240331T030000
TZOFFSETFROM:+0200
TZOFFSETTO:+0100
TZNAME:Europe/Vienna CET
END:STANDARD
BEGIN:STANDARD
DTSTART:20241027T020000
RDATE:20250330T030000
TZOFFSETFROM:+0200
TZOFFSETTO:+0100
TZNAME:Europe/Vienna CET
END:STANDARD
BEGIN:STANDARD
DTSTART:20251026T020000
RDATE:20260329T030000
TZOFFSETFROM:+0200
TZOFFSETTO:+0100
TZNAME:Europe/Vienna CET
END:STANDARD
BEGIN:STANDARD
DTSTART:20261025T020000
RDATE:20270328T030000
TZOFFSETFROM:+0200
TZOFFSETTO:+0100
TZNAME:Europe/Vienna CET
END:STANDARD
BEGIN:STANDARD
DTSTART:20271031T020000
RDATE:20280326T030000
TZOFFSETFROM:+0200
TZOFFSETTO:+0100
TZNAME:Europe/Vienna CET
END:STANDARD
BEGIN:STANDARD
DTSTART:20281029T020000
RDATE:20290325T030000
TZOFFSETFROM:+0200
TZOFFSETTO:+0100
TZNAME:Europe/Vienna CET
END:STANDARD
BEGIN:STANDARD
DTSTART:20291028T020000
RDATE:20300331T030000
TZOFFSETFROM:+0200
TZOFFSETTO:+0100
TZNAME:Europe/Vienna CET
END:STANDARD
BEGIN:STANDARD
DTSTART:20301027T020000
RDATE:20310330T030000
TZOFFSETFROM:+0200
TZOFFSETTO:+0100
TZNAME:Europe/Vienna CET
END:STANDARD
BEGIN:STANDARD
DTSTART:20311026T020000
RDATE:20320328T030000
TZOFFSETFROM:+0200
TZOFFSETTO:+0100
TZNAME:Europe/Vienna CET
END:STANDARD
BEGIN:STANDARD
DTSTART:20321031T020000
RDATE:20330327T030000
TZOFFSETFROM:+0200
TZOFFSETTO:+0100
TZNAME:Europe/Vienna CET
END:STANDARD
BEGIN:STANDARD
DTSTART:20331030T020000
RDATE:20340326T030000
TZOFFSETFROM:+0200
TZOFFSETTO:+0100
TZNAME:Europe/Vienna CET
END:STANDARD
BEGIN:STANDARD
DTSTART:20341029T020000
RDATE:20350325T030000
TZOFFSETFROM:+0200
TZOFFSETTO:+0100
TZNAME:Europe/Vienna CET
END:STANDARD
BEGIN:DAYLIGHT
DTSTART:20240331T030000
RDATE:20241027T020000
TZOFFSETFROM:+0100
TZOFFSETTO:+0200
TZNAME:Europe/Vienna CEST
END:DAYLIGHT
BEGIN:DAYLIGHT
DTSTART:20250330T030000
RDATE:20251026T020000
TZOFFSETFROM:+0100
TZOFFSETTO:+0200
TZNAME:Europe/Vienna CEST
END:DAYLIGHT
BEGIN:DAYLIGHT
DTSTART:20260329T030000
RDATE:20261025T020000
TZOFFSETFROM:+0100
TZOFFSETTO:+0200
TZNAME:Europe/Vienna CEST
END:DAYLIGHT
BEGIN:DAYLIGHT
DTSTART:20270328T030000
RDATE:20271031T020000
TZOFFSETFROM:+0100
TZOFFSETTO:+0200
TZNAME:Europe/Vienna CEST
END:DAYLIGHT
BEGIN:DAYLIGHT
DTSTART:20280326T030000
RDATE:20281029T020000
TZOFFSETFROM:+0100
TZOFFSETTO:+0200
TZNAME:Europe/Vienna CEST
END:DAYLIGHT
BEGIN:DAYLIGHT
DTSTART:20290325T030000
RDATE:20291028T020000
TZOFFSETFROM:+0100
TZOFFSETTO:+0200
TZNAME:Europe/Vienna CEST
END:DAYLIGHT
BEGIN:DAYLIGHT
DTSTART:20300331T030000
RDATE:20301027T020000
TZOFFSETFROM:+0100
TZOFFSETTO:+0200
TZNAME:Europe/Vienna CEST
END:DAYLIGHT
BEGIN:DAYLIGHT
DTSTART:20310330T030000
RDATE:20311026T020000
TZOFFSETFROM:+0100
TZOFFSETTO:+0200
TZNAME:Europe/Vienna CEST
END:DAYLIGHT
BEGIN:DAYLIGHT
DTSTART:20320328T030000
RDATE:20321031T020000
TZOFFSETFROM:+0100
TZOFFSETTO:+0200
TZNAME:Europe/Vienna CEST
END:DAYLIGHT
BEGIN:DAYLIGHT
DTSTART:20330327T030000
RDATE:20331030T020000
TZOFFSETFROM:+0100
TZOFFSETTO:+0200
TZNAME:Europe/Vienna CEST
END:DAYLIGHT
BEGIN:DAYLIGHT
DTSTART:20340326T030000
RDATE:20341029T020000
TZOFFSETFROM:+0100
TZOFFSETTO:+0200
TZNAME:Europe/Vienna CEST
END:DAYLIGHT
END:VTIMEZONE
BEGIN:VEVENT
UID:
CATEGORIES:Workshop
SUMMARY:Improving Student's Lab Calculation Skills
LOCATION:ONLINE
DESCRIPTION;ENCODING=QUOTED-PRINTABLE:<table border="0" cellpadding="0" cellspacing="0" width="100%">	<tbody>		<t
 r>			<td>				<table align="left" border="0" cellpadding="0" cellspacing="0"
  width="100%">					<tbody>						<tr>							<td>								<table border="0" ce
 llspacing="0" width="100%">									<tbody>										<tr>											<td sty
 le="line-height:150%;">												<div>													Do your students strug
 gle with lab-related calculations? From dilutions to calibration curves, ma
 stering these skills is essential for lab success.<br />													<br />
 													Join us for an insightful <strong>webinar</strong> in which tw
 o experienced educators share their<br />													<strong>recently deve
 loped strategies</strong> to help students confidently tackle calculations.
 </div>											</td>										</tr>									</tbody>								</table>					
 		</td>						</tr>					</tbody>				</table>			</td>		</tr>	</tbody></table>
 <table border="0" cellpadding="0" cellspacing="0" width="100%">	<tbody>		<t
 r>			<td>				<table align="left" border="0" cellpadding="0" cellspacing="0"
  width="100%">					<tbody>						<tr>							<td>								<table border="0" ce
 llspacing="0" width="100%">									<tbody>										<tr>											<td sty
 le="line-height:150%;">												<strong>Speakers</strong><br />									
 			<br />												<strong>Dr. Melanie Erzinger</strong> (Lecturer in Foo
 d Chemistry, ETH Zurich)<br />												How to help students understand t
 he workflow of data analysis after experiments<br />												by designin
 g their own calculation strategy.<br />												<br />												<stron
 g>Dr. Joost van den Brink</strong> (Lecturer in Biology, Leiden University)
 <br />												How to help students master chemical calculations with Ad
 aptive Cases that<br />												tailor exercises to individual learning 
 needs.<br />												<br />												<strong>When?</strong> Tuesday 25
 th March 2025 | 10:00-11:00 CET</td>										</tr>									</tbody>							
 	</table>							</td>						</tr>					</tbody>				</table>			</td>		</tr>	</
 tbody></table><table border="0" cellpadding="0" cellspacing="0" width="100%
 ">	<tbody>		<tr>			<td align="center">				<table border="0" cellpadding="0"
  cellspacing="0">					<tbody>						<tr>							<td align="center">								<a
  href="https://labbuddy.us20.list-manage.com/track/click?u=aee01fdb0af08b52
 b3bb2344b&amp;id=16ccfd4a2f&amp;e=a2c4d6ef1c" target="_blank" title="Regist
 er now">Register now</a></td>						</tr>					</tbody>				</table>			</td>		
 </tr>	</tbody></table><p>	&nbsp;</p>
CONTACT:https://cloud.teamleader.eu/labbuddy/forms/webinar-registration-form-improving-students-lab-calculation-skills/?utm_sour
DTSTAMP:20260424T043325Z
DTSTART;TZID=Europe/Vienna:20250325T100000
DTEND;TZID=Europe/Vienna:20250325T130000
SEQUENCE:1
TRANSP:OPAQUE
END:VEVENT
END:VCALENDAR