BEGIN:VCALENDAR
VERSION:2.0
PRODID:-//jEvents 2.0 for Joomla//EN
CALSCALE:GREGORIAN
METHOD:PUBLISH
BEGIN:VTIMEZONE
TZID:Europe/Vienna
BEGIN:STANDARD
DTSTART:20230320T190000
RDATE:20230326T030000
TZOFFSETFROM:+0200
TZOFFSETTO:+0100
TZNAME:Europe/Vienna CET
END:STANDARD
BEGIN:STANDARD
DTSTART:20231029T020000
RDATE:20240331T030000
TZOFFSETFROM:+0200
TZOFFSETTO:+0100
TZNAME:Europe/Vienna CET
END:STANDARD
BEGIN:STANDARD
DTSTART:20241027T020000
RDATE:20250330T030000
TZOFFSETFROM:+0200
TZOFFSETTO:+0100
TZNAME:Europe/Vienna CET
END:STANDARD
BEGIN:STANDARD
DTSTART:20251026T020000
RDATE:20260329T030000
TZOFFSETFROM:+0200
TZOFFSETTO:+0100
TZNAME:Europe/Vienna CET
END:STANDARD
BEGIN:STANDARD
DTSTART:20261025T020000
RDATE:20270328T030000
TZOFFSETFROM:+0200
TZOFFSETTO:+0100
TZNAME:Europe/Vienna CET
END:STANDARD
BEGIN:STANDARD
DTSTART:20271031T020000
RDATE:20280326T030000
TZOFFSETFROM:+0200
TZOFFSETTO:+0100
TZNAME:Europe/Vienna CET
END:STANDARD
BEGIN:STANDARD
DTSTART:20281029T020000
RDATE:20290325T030000
TZOFFSETFROM:+0200
TZOFFSETTO:+0100
TZNAME:Europe/Vienna CET
END:STANDARD
BEGIN:STANDARD
DTSTART:20291028T020000
RDATE:20300331T030000
TZOFFSETFROM:+0200
TZOFFSETTO:+0100
TZNAME:Europe/Vienna CET
END:STANDARD
BEGIN:STANDARD
DTSTART:20301027T020000
RDATE:20310330T030000
TZOFFSETFROM:+0200
TZOFFSETTO:+0100
TZNAME:Europe/Vienna CET
END:STANDARD
BEGIN:STANDARD
DTSTART:20311026T020000
RDATE:20320328T030000
TZOFFSETFROM:+0200
TZOFFSETTO:+0100
TZNAME:Europe/Vienna CET
END:STANDARD
BEGIN:STANDARD
DTSTART:20321031T020000
RDATE:20330327T030000
TZOFFSETFROM:+0200
TZOFFSETTO:+0100
TZNAME:Europe/Vienna CET
END:STANDARD
BEGIN:STANDARD
DTSTART:20331030T020000
RDATE:20340326T030000
TZOFFSETFROM:+0200
TZOFFSETTO:+0100
TZNAME:Europe/Vienna CET
END:STANDARD
BEGIN:STANDARD
DTSTART:20341029T020000
RDATE:20350325T030000
TZOFFSETFROM:+0200
TZOFFSETTO:+0100
TZNAME:Europe/Vienna CET
END:STANDARD
BEGIN:DAYLIGHT
DTSTART:20230326T030000
RDATE:20231029T020000
TZOFFSETFROM:+0100
TZOFFSETTO:+0200
TZNAME:Europe/Vienna CEST
END:DAYLIGHT
BEGIN:DAYLIGHT
DTSTART:20240331T030000
RDATE:20241027T020000
TZOFFSETFROM:+0100
TZOFFSETTO:+0200
TZNAME:Europe/Vienna CEST
END:DAYLIGHT
BEGIN:DAYLIGHT
DTSTART:20250330T030000
RDATE:20251026T020000
TZOFFSETFROM:+0100
TZOFFSETTO:+0200
TZNAME:Europe/Vienna CEST
END:DAYLIGHT
BEGIN:DAYLIGHT
DTSTART:20260329T030000
RDATE:20261025T020000
TZOFFSETFROM:+0100
TZOFFSETTO:+0200
TZNAME:Europe/Vienna CEST
END:DAYLIGHT
BEGIN:DAYLIGHT
DTSTART:20270328T030000
RDATE:20271031T020000
TZOFFSETFROM:+0100
TZOFFSETTO:+0200
TZNAME:Europe/Vienna CEST
END:DAYLIGHT
BEGIN:DAYLIGHT
DTSTART:20280326T030000
RDATE:20281029T020000
TZOFFSETFROM:+0100
TZOFFSETTO:+0200
TZNAME:Europe/Vienna CEST
END:DAYLIGHT
BEGIN:DAYLIGHT
DTSTART:20290325T030000
RDATE:20291028T020000
TZOFFSETFROM:+0100
TZOFFSETTO:+0200
TZNAME:Europe/Vienna CEST
END:DAYLIGHT
BEGIN:DAYLIGHT
DTSTART:20300331T030000
RDATE:20301027T020000
TZOFFSETFROM:+0100
TZOFFSETTO:+0200
TZNAME:Europe/Vienna CEST
END:DAYLIGHT
BEGIN:DAYLIGHT
DTSTART:20310330T030000
RDATE:20311026T020000
TZOFFSETFROM:+0100
TZOFFSETTO:+0200
TZNAME:Europe/Vienna CEST
END:DAYLIGHT
BEGIN:DAYLIGHT
DTSTART:20320328T030000
RDATE:20321031T020000
TZOFFSETFROM:+0100
TZOFFSETTO:+0200
TZNAME:Europe/Vienna CEST
END:DAYLIGHT
BEGIN:DAYLIGHT
DTSTART:20330327T030000
RDATE:20331030T020000
TZOFFSETFROM:+0100
TZOFFSETTO:+0200
TZNAME:Europe/Vienna CEST
END:DAYLIGHT
BEGIN:DAYLIGHT
DTSTART:20340326T030000
RDATE:20341029T020000
TZOFFSETFROM:+0100
TZOFFSETTO:+0200
TZNAME:Europe/Vienna CEST
END:DAYLIGHT
END:VTIMEZONE
BEGIN:VEVENT
UID:
CATEGORIES:Vortrag
SUMMARY:Akteure, Statisten und Publikum in der Tumorentstehung
LOCATION:Vienna, Austria/Webinar
DESCRIPTION;ENCODING=QUOTED-PRINTABLE:<p>	Am Mittwoch, den 20. M&auml;rz 2024, veranstaltet die Gesellschaft der 
 &Auml;rzte in Wien (im Anschluss an ihre Jahreshauptversammlung 2024) die F
 ortbildung &bdquo;Akteure, Statisten und Publikum in der Tumorentstehung&ld
 quo;. Als Vortragende d&uuml;rfen wir <strong>Univ.-Prof. Dr. Maria Sibilia
  </strong>begr&uuml;&szlig;en. Zu dieser Veranstaltung m&ouml;chten wir die
  Mitglieder der &Ouml;GMBT heute gerne einladen:</p><p>	&nbsp;</p><p>	<stro
 ng>Festvortrag von Univ.-Prof. Dr. Maria Sibilia: &quot;Akteure, Statisten 
 und Publikum in der Tumorentstehung&quot;</strong></p><p>	<strong>Mittwoch,
  20. M&auml;rz 2024</strong></p><p>	<strong>1</strong><strong>9:00 Uhr</str
 ong></p><p>	<strong>1 DFP-Punkt</strong></p><p>	&nbsp;</p><p>	<strong>Hybri
 dveranstaltung (vor Ort im Billrothhaus und online als Webinar)</strong></p
 ><p>	&nbsp;</p><p>	<strong>Mitgliedern der &Ouml;GMBT </strong>gew&auml;hre
 n wir f&uuml;r diese Fortbildung gerne <strong>freien Eintritt</strong> (so
 wohl vor Ort als auch online)!</p><p>	Eine Anmeldung zur Veranstaltung ist 
 per Mail an <span id="cloak54883">This email address is being protected fro
 m spambots. You need JavaScript enabled to view it.</span><script type='tex
 t/javascript'>
 //<!--
 document.getElementById('cloak54883').innerHTML = '
 ';
 var prefix = 'ma' + 'il' + 'to';
 var path = 'hr' + 'ef' + '=';
 var ad
 dy54883 = 'event' + '@';
 addy54883 = addy54883 + 'billrothhaus' + '.' + 'a
 t';
 var addy_text54883 = '<strong>event' + '@' + 'billrothhaus' + '.' + 'a
 t</strong>';
 document.getElementById('cloak54883').innerHTML += '<a ' + pa
 th + '\'' + prefix + ':' + addy54883 + '\'>'+addy_text54883+'<\/a>';
 //-->
 
 </script> m&ouml;glich, unter Bezugnahme auf die Mitgliedschaft in Ihrer 
 Gesellschaft sowie Bekanntgabe des gew&uuml;nschten Teilnahmemodus (vor Ort
  oder online).</p><p>	<br />	&nbsp;</p><p>	&nbsp;</p>
CONTACT:Gesellschaft der Ärzte in Wien - Billrothhaus
DTSTAMP:20260422T210330Z
DTSTART;TZID=Europe/Vienna:20240320T190000
DTEND;TZID=Europe/Vienna:20240320T190000
SEQUENCE:1
TRANSP:OPAQUE
END:VEVENT
END:VCALENDAR