BEGIN:VCALENDAR
VERSION:2.0
PRODID:-//jEvents 2.0 for Joomla//EN
CALSCALE:GREGORIAN
METHOD:PUBLISH
BEGIN:VTIMEZONE
TZID:Europe/Vienna
BEGIN:STANDARD
DTSTART:20241027T020000
RDATE:20250330T030000
TZOFFSETFROM:+0200
TZOFFSETTO:+0100
TZNAME:Europe/Vienna CET
END:STANDARD
BEGIN:STANDARD
DTSTART:20251026T020000
RDATE:20260329T030000
TZOFFSETFROM:+0200
TZOFFSETTO:+0100
TZNAME:Europe/Vienna CET
END:STANDARD
BEGIN:STANDARD
DTSTART:20261025T020000
RDATE:20270328T030000
TZOFFSETFROM:+0200
TZOFFSETTO:+0100
TZNAME:Europe/Vienna CET
END:STANDARD
BEGIN:STANDARD
DTSTART:20271031T020000
RDATE:20280326T030000
TZOFFSETFROM:+0200
TZOFFSETTO:+0100
TZNAME:Europe/Vienna CET
END:STANDARD
BEGIN:STANDARD
DTSTART:20281029T020000
RDATE:20290325T030000
TZOFFSETFROM:+0200
TZOFFSETTO:+0100
TZNAME:Europe/Vienna CET
END:STANDARD
BEGIN:STANDARD
DTSTART:20291028T020000
RDATE:20300331T030000
TZOFFSETFROM:+0200
TZOFFSETTO:+0100
TZNAME:Europe/Vienna CET
END:STANDARD
BEGIN:STANDARD
DTSTART:20301027T020000
RDATE:20310330T030000
TZOFFSETFROM:+0200
TZOFFSETTO:+0100
TZNAME:Europe/Vienna CET
END:STANDARD
BEGIN:STANDARD
DTSTART:20311026T020000
RDATE:20320328T030000
TZOFFSETFROM:+0200
TZOFFSETTO:+0100
TZNAME:Europe/Vienna CET
END:STANDARD
BEGIN:STANDARD
DTSTART:20321031T020000
RDATE:20330327T030000
TZOFFSETFROM:+0200
TZOFFSETTO:+0100
TZNAME:Europe/Vienna CET
END:STANDARD
BEGIN:STANDARD
DTSTART:20331030T020000
RDATE:20340326T030000
TZOFFSETFROM:+0200
TZOFFSETTO:+0100
TZNAME:Europe/Vienna CET
END:STANDARD
BEGIN:STANDARD
DTSTART:20341029T020000
RDATE:20350325T030000
TZOFFSETFROM:+0200
TZOFFSETTO:+0100
TZNAME:Europe/Vienna CET
END:STANDARD
BEGIN:DAYLIGHT
DTSTART:20240630T123000
RDATE:20241027T020000
TZOFFSETFROM:+0100
TZOFFSETTO:+0200
TZNAME:Europe/Vienna CEST
END:DAYLIGHT
BEGIN:DAYLIGHT
DTSTART:20250330T030000
RDATE:20251026T020000
TZOFFSETFROM:+0100
TZOFFSETTO:+0200
TZNAME:Europe/Vienna CEST
END:DAYLIGHT
BEGIN:DAYLIGHT
DTSTART:20260329T030000
RDATE:20261025T020000
TZOFFSETFROM:+0100
TZOFFSETTO:+0200
TZNAME:Europe/Vienna CEST
END:DAYLIGHT
BEGIN:DAYLIGHT
DTSTART:20270328T030000
RDATE:20271031T020000
TZOFFSETFROM:+0100
TZOFFSETTO:+0200
TZNAME:Europe/Vienna CEST
END:DAYLIGHT
BEGIN:DAYLIGHT
DTSTART:20280326T030000
RDATE:20281029T020000
TZOFFSETFROM:+0100
TZOFFSETTO:+0200
TZNAME:Europe/Vienna CEST
END:DAYLIGHT
BEGIN:DAYLIGHT
DTSTART:20290325T030000
RDATE:20291028T020000
TZOFFSETFROM:+0100
TZOFFSETTO:+0200
TZNAME:Europe/Vienna CEST
END:DAYLIGHT
BEGIN:DAYLIGHT
DTSTART:20300331T030000
RDATE:20301027T020000
TZOFFSETFROM:+0100
TZOFFSETTO:+0200
TZNAME:Europe/Vienna CEST
END:DAYLIGHT
BEGIN:DAYLIGHT
DTSTART:20310330T030000
RDATE:20311026T020000
TZOFFSETFROM:+0100
TZOFFSETTO:+0200
TZNAME:Europe/Vienna CEST
END:DAYLIGHT
BEGIN:DAYLIGHT
DTSTART:20320328T030000
RDATE:20321031T020000
TZOFFSETFROM:+0100
TZOFFSETTO:+0200
TZNAME:Europe/Vienna CEST
END:DAYLIGHT
BEGIN:DAYLIGHT
DTSTART:20330327T030000
RDATE:20331030T020000
TZOFFSETFROM:+0100
TZOFFSETTO:+0200
TZNAME:Europe/Vienna CEST
END:DAYLIGHT
BEGIN:DAYLIGHT
DTSTART:20340326T030000
RDATE:20341029T020000
TZOFFSETFROM:+0100
TZOFFSETTO:+0200
TZNAME:Europe/Vienna CEST
END:DAYLIGHT
END:VTIMEZONE
BEGIN:VEVENT
UID:
CATEGORIES:Kongress
SUMMARY:17th Symposium on Bacterial Genetics and Ecology
LOCATION:University Library Graz Universitätsplatz 3a 8010 Graz Austria
DESCRIPTION;ENCODING=QUOTED-PRINTABLE:<p>	Thank you for your interest in 17<sup>th</sup>&nbsp;Symposium on Bacter
 ial Genetics and Ecology from 01&ndash;04 July 2025 in Graz, Austria.</p><p
 >	Main Topics:</p><div class="card-text">	<ul class="list-normal">		<li>			
 Defining pathogens from an ecological perspective</li>		<li>			Anthropocene
  and biogeochemical cycles</li>		<li>			Soil microbiome and One Health</li>
 		<li>			The human microbiome in health and disease</li>		<li>			Food-gut m
 icrobiome axis</li>		<li>			Microbiome engineering for sustainable agricult
 ure</li>		<li>			Microbial production systems and artificial intelligence</
 li>	</ul></div><p>	Registrierung<a href="http://https://bageco.org/registra
 tion" onclick="window.open(this.href, '', 'resizable=no,status=no,location=
 no,toolbar=no,menubar=no,fullscreen=no,scrollbars=no,dependent=no'); return
  false;">: </a><a href="https://bageco.org/registration"> https://bageco.or
 g/registration</a></p><p>	Deadline Call for Abstract: <strong>28.02.2025</s
 trong></p><p>	Abstract-Einreichung:<a href="https://bageco.org/programme-ab
 stracts/abstract-submission" onclick="window.open(this.href, '', 'resizable
 =no,status=no,location=no,toolbar=no,menubar=no,fullscreen=no,scrollbars=no
 ,dependent=no'); return false;"> </a><a href="https://bageco.org/programme-
 abstracts/abstract-submission"> https://bageco.org/programme-abstracts/abst
 ract-submission</a></p><p>	<a href="http://https://bageco.org/" onclick="wi
 ndow.open(this.href, '', 'resizable=no,status=no,location=no,toolbar=no,men
 ubar=no,fullscreen=no,scrollbars=no,dependent=no'); return false;">&nbsp;</
 a></p><p>	<br />	<br />	&nbsp;</p><p>	&nbsp;</p>
CONTACT:https://bageco.org/
DTSTAMP:20260424T233144Z
DTSTART;TZID=Europe/Vienna:20250701T123000
DTEND;TZID=Europe/Vienna:20250704T123000
SEQUENCE:1
TRANSP:OPAQUE
END:VEVENT
END:VCALENDAR