BEGIN:VCALENDAR
VERSION:2.0
PRODID:-//jEvents 2.0 for Joomla//EN
CALSCALE:GREGORIAN
METHOD:PUBLISH
BEGIN:VTIMEZONE
TZID:Europe/Vienna
BEGIN:STANDARD
DTSTART:20241027T020000
RDATE:20250330T030000
TZOFFSETFROM:+0200
TZOFFSETTO:+0100
TZNAME:Europe/Vienna CET
END:STANDARD
BEGIN:STANDARD
DTSTART:20251026T020000
RDATE:20260329T030000
TZOFFSETFROM:+0200
TZOFFSETTO:+0100
TZNAME:Europe/Vienna CET
END:STANDARD
BEGIN:STANDARD
DTSTART:20261025T020000
RDATE:20270328T030000
TZOFFSETFROM:+0200
TZOFFSETTO:+0100
TZNAME:Europe/Vienna CET
END:STANDARD
BEGIN:STANDARD
DTSTART:20271031T020000
RDATE:20280326T030000
TZOFFSETFROM:+0200
TZOFFSETTO:+0100
TZNAME:Europe/Vienna CET
END:STANDARD
BEGIN:STANDARD
DTSTART:20281029T020000
RDATE:20290325T030000
TZOFFSETFROM:+0200
TZOFFSETTO:+0100
TZNAME:Europe/Vienna CET
END:STANDARD
BEGIN:STANDARD
DTSTART:20291028T020000
RDATE:20300331T030000
TZOFFSETFROM:+0200
TZOFFSETTO:+0100
TZNAME:Europe/Vienna CET
END:STANDARD
BEGIN:STANDARD
DTSTART:20301027T020000
RDATE:20310330T030000
TZOFFSETFROM:+0200
TZOFFSETTO:+0100
TZNAME:Europe/Vienna CET
END:STANDARD
BEGIN:STANDARD
DTSTART:20311026T020000
RDATE:20320328T030000
TZOFFSETFROM:+0200
TZOFFSETTO:+0100
TZNAME:Europe/Vienna CET
END:STANDARD
BEGIN:STANDARD
DTSTART:20321031T020000
RDATE:20330327T030000
TZOFFSETFROM:+0200
TZOFFSETTO:+0100
TZNAME:Europe/Vienna CET
END:STANDARD
BEGIN:STANDARD
DTSTART:20331030T020000
RDATE:20340326T030000
TZOFFSETFROM:+0200
TZOFFSETTO:+0100
TZNAME:Europe/Vienna CET
END:STANDARD
BEGIN:STANDARD
DTSTART:20341029T020000
RDATE:20350325T030000
TZOFFSETFROM:+0200
TZOFFSETTO:+0100
TZNAME:Europe/Vienna CET
END:STANDARD
BEGIN:DAYLIGHT
DTSTART:20240525T090000
RDATE:20241027T020000
TZOFFSETFROM:+0100
TZOFFSETTO:+0200
TZNAME:Europe/Vienna CEST
END:DAYLIGHT
BEGIN:DAYLIGHT
DTSTART:20250330T030000
RDATE:20251026T020000
TZOFFSETFROM:+0100
TZOFFSETTO:+0200
TZNAME:Europe/Vienna CEST
END:DAYLIGHT
BEGIN:DAYLIGHT
DTSTART:20260329T030000
RDATE:20261025T020000
TZOFFSETFROM:+0100
TZOFFSETTO:+0200
TZNAME:Europe/Vienna CEST
END:DAYLIGHT
BEGIN:DAYLIGHT
DTSTART:20270328T030000
RDATE:20271031T020000
TZOFFSETFROM:+0100
TZOFFSETTO:+0200
TZNAME:Europe/Vienna CEST
END:DAYLIGHT
BEGIN:DAYLIGHT
DTSTART:20280326T030000
RDATE:20281029T020000
TZOFFSETFROM:+0100
TZOFFSETTO:+0200
TZNAME:Europe/Vienna CEST
END:DAYLIGHT
BEGIN:DAYLIGHT
DTSTART:20290325T030000
RDATE:20291028T020000
TZOFFSETFROM:+0100
TZOFFSETTO:+0200
TZNAME:Europe/Vienna CEST
END:DAYLIGHT
BEGIN:DAYLIGHT
DTSTART:20300331T030000
RDATE:20301027T020000
TZOFFSETFROM:+0100
TZOFFSETTO:+0200
TZNAME:Europe/Vienna CEST
END:DAYLIGHT
BEGIN:DAYLIGHT
DTSTART:20310330T030000
RDATE:20311026T020000
TZOFFSETFROM:+0100
TZOFFSETTO:+0200
TZNAME:Europe/Vienna CEST
END:DAYLIGHT
BEGIN:DAYLIGHT
DTSTART:20320328T030000
RDATE:20321031T020000
TZOFFSETFROM:+0100
TZOFFSETTO:+0200
TZNAME:Europe/Vienna CEST
END:DAYLIGHT
BEGIN:DAYLIGHT
DTSTART:20330327T030000
RDATE:20331030T020000
TZOFFSETFROM:+0100
TZOFFSETTO:+0200
TZNAME:Europe/Vienna CEST
END:DAYLIGHT
BEGIN:DAYLIGHT
DTSTART:20340326T030000
RDATE:20341029T020000
TZOFFSETFROM:+0100
TZOFFSETTO:+0200
TZNAME:Europe/Vienna CEST
END:DAYLIGHT
END:VTIMEZONE
BEGIN:VEVENT
UID:
CATEGORIES:Kongress
SUMMARY:Green Deal Biotechnology
LOCATION:Aveiro, Portugal
DESCRIPTION;ENCODING=QUOTED-PRINTABLE:<table border="0" cellpadding="0" cellspacing="0" class="wrapper" data-type
 ="image" role="module" width="100%">	<tbody>		<tr>			<td bgcolor="#ffffff" 
 height="100%" style="padding:25px 20px 15px 20px;background-color:#ffffff;"
  valign="top">				<div style="text-align: justify;">					<span style="font-
 size:15px; font-family: montserrat; color:#696969">Join us for an enriching
  experience where leading experts, researchers, and professionals will gath
 er to discuss the latest advancements and innovations in sustainable develo
 pment and environmental policy. Mark your calendars and get ready to explor
 e a wide range of topics, including: </span>					<ul>						<li>							<span
  style="font-size:15px; font-family: montserrat; color:#696969">Innovative 
 solutions in soil bioremediation</span></li>						<li>							<span style="f
 ont-size:15px; font-family: montserrat; color:#696969">Biotechnological val
 orization of marine and other natural resources and wastes</span></li>					
 	<li>							<span style="font-size:15px; font-family: montserrat; color:#69
 6969">Sustainability of environmental biotechnology solutions</span></li>		
 				<li>							<span style="font-size:15px; font-family: montserrat; color:
 #696969">Biotechnological approaches to nutrient cycling balances</span></l
 i>						<li>							<span style="font-size:15px; font-family: montserrat; co
 lor:#696969">AI and genome editing - friends or foes in environmental biote
 chnology?</span></li>					</ul>					<span style="font-size:15px; font-famil
 y: montserrat; color:#696969">Stay tuned for more details on registration, 
 abstract submission, and the full conference agenda. </span></div>			</td>	
 	</tr>		<tr>			<td bgcolor="#ffffff" height="100%" style="padding:25px 20px
  25px 20px;background-color:#ffffff;" valign="top">				<table border="0" ce
 llpadding="0" cellspacing="0" class="btn btn-primary" role="presentation" s
 tyle="border-radius: 6px; border-collapse: separate !important;">					<tbod
 y>						<tr>							<td align="center" bgcolor="#32A9D6" style="line-height:
  24px; font-size: 16px; border-radius: 6px; margin: 0;">								<a href="ht
 tps://u6357872.ct.sendgrid.net/ls/click?upn=u001.Oo8NTcX2yl1WpZeAJvBhRtK5WP
 jJHYp8RUh6jfFHfIbKggbfNR8HDPtu-2BBdEiwmZfHng2q3rMwbEE8OCCPETxg-3D-3DAjav_Be
 bZuezS3VhqDx98Otg8WI8Rc62QUe95B7yz4q-2FvQ2S1EGDEIEHvPOYk8BvEBF-2BOSYtejavUV
 987f0RZ3QxpCpW3RbBsFrasiXM8A0AF5rV5stOSGXrCn-2BhdE-2FVTbZy08Q4FItShx9qTxBlU
 bGZfd53-2FMAPfKC3x1-2BYDNMP3riRxHW2HWXo158NqxzUu4cDBNNE53Y4W-2FUjMoJmwV6rjG
 A-3D-3D" style="color: #ffffff; font-size: 16px; font-family: montserrat; t
 ext-decoration: none; border-radius: 6px; line-height: 20px; display: block
 ; font-weight: normal; white-space: nowrap; background-color: #32A9D6; padd
 ing: 8px 16px; border: 1px solid #32A9D6;" target="_blank">More information
 </a></td>						</tr>					</tbody>				</table>			</td>		</tr>	</tbody></tabl
 e><p>	<a href="https://www.efbiotechnology.org/green_deal" target="_blank">
 <span style="color: #ffffff; font-size: 16px; font-family: montserrat; text
 -decoration: none; border-radius: 6px; line-height: 20px; display: block; f
 ont-weight: normal; white-space: nowrap; background-color: #32A9D6; padding
 : 8px 16px; border: 1px solid #32A9D6;"><span style="color:#696969"><b>Regi
 stration will open soon</b></span></span></a></p><p>	<span style="color:#ff
 0000;"><span style="font-size:14px;"><b>10% discount on registration fees f
 or all &Ouml;GMBT members </b>(please use code <b>EFBIM10</b>&nbsp;at the c
 heckout)</span></span></p>
CONTACT:https://www.efbiotechnology.org/green_deal
DTSTAMP:20260424T003209Z
DTSTART;TZID=Europe/Vienna:20250526T090000
DTEND;TZID=Europe/Vienna:20250528T180000
SEQUENCE:1
TRANSP:OPAQUE
END:VEVENT
END:VCALENDAR