BEGIN:VCALENDAR
VERSION:2.0
PRODID:-//jEvents 2.0 for Joomla//EN
CALSCALE:GREGORIAN
METHOD:PUBLISH
BEGIN:VTIMEZONE
TZID:Europe/Vienna
BEGIN:STANDARD
DTSTART:20211031T020000
RDATE:20220327T030000
TZOFFSETFROM:+0200
TZOFFSETTO:+0100
TZNAME:Europe/Vienna CET
END:STANDARD
BEGIN:STANDARD
DTSTART:20221030T020000
RDATE:20230326T030000
TZOFFSETFROM:+0200
TZOFFSETTO:+0100
TZNAME:Europe/Vienna CET
END:STANDARD
BEGIN:STANDARD
DTSTART:20231029T020000
RDATE:20240331T030000
TZOFFSETFROM:+0200
TZOFFSETTO:+0100
TZNAME:Europe/Vienna CET
END:STANDARD
BEGIN:STANDARD
DTSTART:20241027T020000
RDATE:20250330T030000
TZOFFSETFROM:+0200
TZOFFSETTO:+0100
TZNAME:Europe/Vienna CET
END:STANDARD
BEGIN:STANDARD
DTSTART:20251026T020000
RDATE:20260329T030000
TZOFFSETFROM:+0200
TZOFFSETTO:+0100
TZNAME:Europe/Vienna CET
END:STANDARD
BEGIN:STANDARD
DTSTART:20261025T020000
RDATE:20270328T030000
TZOFFSETFROM:+0200
TZOFFSETTO:+0100
TZNAME:Europe/Vienna CET
END:STANDARD
BEGIN:STANDARD
DTSTART:20271031T020000
RDATE:20280326T030000
TZOFFSETFROM:+0200
TZOFFSETTO:+0100
TZNAME:Europe/Vienna CET
END:STANDARD
BEGIN:STANDARD
DTSTART:20281029T020000
RDATE:20290325T030000
TZOFFSETFROM:+0200
TZOFFSETTO:+0100
TZNAME:Europe/Vienna CET
END:STANDARD
BEGIN:STANDARD
DTSTART:20291028T020000
RDATE:20300331T030000
TZOFFSETFROM:+0200
TZOFFSETTO:+0100
TZNAME:Europe/Vienna CET
END:STANDARD
BEGIN:STANDARD
DTSTART:20301027T020000
RDATE:20310330T030000
TZOFFSETFROM:+0200
TZOFFSETTO:+0100
TZNAME:Europe/Vienna CET
END:STANDARD
BEGIN:STANDARD
DTSTART:20311026T020000
RDATE:20320328T030000
TZOFFSETFROM:+0200
TZOFFSETTO:+0100
TZNAME:Europe/Vienna CET
END:STANDARD
BEGIN:STANDARD
DTSTART:20321031T020000
RDATE:20330327T030000
TZOFFSETFROM:+0200
TZOFFSETTO:+0100
TZNAME:Europe/Vienna CET
END:STANDARD
BEGIN:STANDARD
DTSTART:20331030T020000
RDATE:20340326T030000
TZOFFSETFROM:+0200
TZOFFSETTO:+0100
TZNAME:Europe/Vienna CET
END:STANDARD
BEGIN:STANDARD
DTSTART:20341029T020000
RDATE:20350325T030000
TZOFFSETFROM:+0200
TZOFFSETTO:+0100
TZNAME:Europe/Vienna CET
END:STANDARD
BEGIN:DAYLIGHT
DTSTART:20210427T090000
RDATE:20211031T020000
TZOFFSETFROM:+0100
TZOFFSETTO:+0200
TZNAME:Europe/Vienna CEST
END:DAYLIGHT
BEGIN:DAYLIGHT
DTSTART:20220327T030000
RDATE:20221030T020000
TZOFFSETFROM:+0100
TZOFFSETTO:+0200
TZNAME:Europe/Vienna CEST
END:DAYLIGHT
BEGIN:DAYLIGHT
DTSTART:20230326T030000
RDATE:20231029T020000
TZOFFSETFROM:+0100
TZOFFSETTO:+0200
TZNAME:Europe/Vienna CEST
END:DAYLIGHT
BEGIN:DAYLIGHT
DTSTART:20240331T030000
RDATE:20241027T020000
TZOFFSETFROM:+0100
TZOFFSETTO:+0200
TZNAME:Europe/Vienna CEST
END:DAYLIGHT
BEGIN:DAYLIGHT
DTSTART:20250330T030000
RDATE:20251026T020000
TZOFFSETFROM:+0100
TZOFFSETTO:+0200
TZNAME:Europe/Vienna CEST
END:DAYLIGHT
BEGIN:DAYLIGHT
DTSTART:20260329T030000
RDATE:20261025T020000
TZOFFSETFROM:+0100
TZOFFSETTO:+0200
TZNAME:Europe/Vienna CEST
END:DAYLIGHT
BEGIN:DAYLIGHT
DTSTART:20270328T030000
RDATE:20271031T020000
TZOFFSETFROM:+0100
TZOFFSETTO:+0200
TZNAME:Europe/Vienna CEST
END:DAYLIGHT
BEGIN:DAYLIGHT
DTSTART:20280326T030000
RDATE:20281029T020000
TZOFFSETFROM:+0100
TZOFFSETTO:+0200
TZNAME:Europe/Vienna CEST
END:DAYLIGHT
BEGIN:DAYLIGHT
DTSTART:20290325T030000
RDATE:20291028T020000
TZOFFSETFROM:+0100
TZOFFSETTO:+0200
TZNAME:Europe/Vienna CEST
END:DAYLIGHT
BEGIN:DAYLIGHT
DTSTART:20300331T030000
RDATE:20301027T020000
TZOFFSETFROM:+0100
TZOFFSETTO:+0200
TZNAME:Europe/Vienna CEST
END:DAYLIGHT
BEGIN:DAYLIGHT
DTSTART:20310330T030000
RDATE:20311026T020000
TZOFFSETFROM:+0100
TZOFFSETTO:+0200
TZNAME:Europe/Vienna CEST
END:DAYLIGHT
BEGIN:DAYLIGHT
DTSTART:20320328T030000
RDATE:20321031T020000
TZOFFSETFROM:+0100
TZOFFSETTO:+0200
TZNAME:Europe/Vienna CEST
END:DAYLIGHT
BEGIN:DAYLIGHT
DTSTART:20330327T030000
RDATE:20331030T020000
TZOFFSETFROM:+0100
TZOFFSETTO:+0200
TZNAME:Europe/Vienna CEST
END:DAYLIGHT
BEGIN:DAYLIGHT
DTSTART:20340326T030000
RDATE:20341029T020000
TZOFFSETFROM:+0100
TZOFFSETTO:+0200
TZNAME:Europe/Vienna CEST
END:DAYLIGHT
END:VTIMEZONE
BEGIN:VEVENT
UID:
CATEGORIES:Symposium
SUMMARY:20. BOKU-Symposium Tierernährung
LOCATION:digitale Web-Konferenz
DESCRIPTION;ENCODING=QUOTED-PRINTABLE:<div align="center">	<strong><em><u>Bioaktive Substanzen in der Tierern&aum
 l;hrung </u></em></strong></div><div>	&nbsp;</div><div>	<em>Bioaktive Subst
 anzen sind Stoffe, die in Futtermitteln vorkommen, in der Regel keinen N&au
 ml;hrstoffcharakter besitzen, aber eine gesundheitsf&ouml;rdernde Wirkung a
 us&uuml;ben. Die meisten bioaktiven Substanzen geh&ouml;ren der Gruppe der 
 sekund&auml;ren Pflanzenstoffe an. Die sekund&auml;re Pflanzenstoffe erf&uu
 ml;llen physiologische Funktionen, die f&uuml;r die Interaktionen zwischen 
 Pflanzen und ihrer Umwelt unentbehrlich sind. Zu nennen sind Abwehrmechanis
 men (Tannine, Alkaloide), visuelle Signalvermittlung zwischen Pflanze und T
 ier (Flavonoide, Carotinoide) und die Aromabildung (Terpenoide). Nicht weni
 ge der Sekund&auml;rmetaboliten pflanzlichen Ursprungs gehen Wechselwirkung
 en mit N&auml;hrstoffen und mit der Darmmikrobiota ein. </em></div><div>	<e
 m>Auch im weiteren Sinne als bioaktive Substanzen zu verstehen sind die Zel
 lwandkomponenten der Pflanzen, die im Gastrointestinaltrakt auf Verdaulichk
 eit, Funktionalit&auml;t, Morphologie und Fermentation wirken. Somit beeinf
 lussen bioaktive Substanzen synergistisch oder antagonistisch Absorption, R
 etention und Ausscheidung verschiedener N&auml;hrstoffe. </em></div><div>	<
 em>Ausgew&auml;hlte sekund&auml;re Pflanzenstoffe haben Potential in Produk
 te wie Milch, Ei, Fleisch und Fisch &uuml;bertragen zu werden und damit unm
 ittelbar einen Einfluss auf die Lebensmittelqualit&auml;t und die Gesundhei
 t des Menschen zu nehmen. Aus dieser Perspektive nimmt ein prozess-orientie
 rter Einsatz von Sekund&auml;rmetaboliten in der Forschung an Bedeutung zu.
  </em></div><div>	<em>Neben der Optimierung der N&auml;hrstoffverwertung im
  intermedi&auml;ren Stoffwechsel von Nutztieren und der Bereitstellung hoch
 qualitativer Lebensmittel tierischer Herkunft, kann zudem ein Beitrag zur M
 inderung von Emissionen klimarelevanter Gase, wie Methan, Lachgas und Kohle
 ndioxid aus der landwirtschaftlichen Produktion geleistet werden. </em></di
 v><div>	<em>Das BOKU-Symposium Tierern&auml;hrung 2022 besch&auml;ftigt sic
 h mit bioaktiven Substanzen in der Tierern&auml;hrung. Die Tagung soll die 
 fachliche Breite in zahlreichen Beitr&auml;gen dokumentieren und &uuml;ber 
 den aktuellen wissenschaftlichen Kenntnisstand informieren. Dar&uuml;ber hi
 naus gibt es M&ouml;glichkeiten zur Pr&auml;sentation aktueller Forschungsa
 rbeiten aus der Tierern&auml;hrung &ndash; im Rahmen von ausgew&auml;hlten 
 Kurzvortr&auml;gen und Postern &ndash;, welche &uuml;ber den Bereich des Ge
 neralthemas hinausgehen.</em></div><div>	&nbsp;</div><div>	<em>Die Homepage
  des 20. BOKU-Symposiums Tierern&auml;hrung finden Sie unter der gewohnten 
 Adresse: </em><a href="http://tte-symposium.boku.ac.at/"><em>http://tte-sym
 posium.boku.ac.at</em></a></div><div>	&nbsp;</div><div>	<div align="center"
 >		<strong><em><u>Bioactive substances in animal nutrition: Functions and t
 he future</u></em></strong></div>	<div align="center">		&nbsp;</div>	<div>	
 	<em>Bioactive substances are found in animal feed and usually do not have 
 a nutritional value, but a health-promoting effect. Most bioactive substanc
 es originate from the group of secondary plant metabolites. Secondary plant
  metabolites perform physiological functions that are essential for the int
 eraction between plants and their environment. These include defense mechan
 isms (tannins, alkaloids), visual signaling between plants and animals (fla
 vonoids, carotenoids) and aroma formation (terpenoids). </em></div>	<div>		
 <em>A large number of secondary plant metabolites interact with nutrients a
 nd the gut microbiota. Thus, they synergistically or antagonistically influ
 ence the absorption, retention and excretion of these nutrients. In a broad
 er sense, also cell wall constituents of plants are bioactive substances, a
 ffecting digestibility, functionality, morphology and fermentability in the
  gastrointestinal tract. </em></div>	<div>		<em>Many secondary plant substa
 nces are potentially transferred into products such as milk, eggs, meat and
  fish, and as such, directly impact food quality and subsequently human hea
 lth. From this perspective, the process-oriented use of secondary metabolit
 es in research is becoming increasingly important. In addition to the optim
 ization of nutrient utilization in the intermediate metabolism of farm anim
 als and the provision of high-quality food of animal origin, a contribution
  can also be made to the reduction of emissions of climate-relevant gases, 
 such as methane, nitrous oxide and carbon dioxide from agricultural product
 ion. </em></div>	<div>		<em>The BOKU Symposium Animal Nutrition 2022 deals 
 with bioactive substances in animal nutrition. The symposium is intended to
  document various aspects of the subject in numerous contributions and to i
 nform about the current state of scientific knowledge. </em></div>	<div>		<
 em>In addition, there are opportunities to present current research work in
  animal nutrition &ndash; in the context of selected short lectures and pos
 ters &ndash; which go beyond the scope of the general topic.</em></div>	<di
 v>		&nbsp;</div>	<div>		<em>For proceedings, further information follow the
  link to our homepage</em> <a href="http://tte-symposium.boku.ac.at/"><em>h
 ttp://tte-symposium.boku.ac.at</em></a></div></div><p>	&nbsp;</p>
CONTACT:http://tte-symposium.boku.ac.at
DTSTAMP:20260425T151546Z
DTSTART;TZID=Europe/Vienna:20220428T090000
DTEND;TZID=Europe/Vienna:20220428T180000
SEQUENCE:1
TRANSP:OPAQUE
END:VEVENT
END:VCALENDAR