BEGIN:VCALENDAR
VERSION:2.0
PRODID:-//jEvents 2.0 for Joomla//EN
CALSCALE:GREGORIAN
METHOD:PUBLISH
BEGIN:VTIMEZONE
TZID:Europe/Vienna
BEGIN:STANDARD
DTSTART:20180317T090000
RDATE:20180325T030000
TZOFFSETFROM:+0200
TZOFFSETTO:+0100
TZNAME:Europe/Vienna CET
END:STANDARD
BEGIN:STANDARD
DTSTART:20181028T020000
RDATE:20190331T030000
TZOFFSETFROM:+0200
TZOFFSETTO:+0100
TZNAME:Europe/Vienna CET
END:STANDARD
BEGIN:STANDARD
DTSTART:20191027T020000
RDATE:20200329T030000
TZOFFSETFROM:+0200
TZOFFSETTO:+0100
TZNAME:Europe/Vienna CET
END:STANDARD
BEGIN:STANDARD
DTSTART:20201025T020000
RDATE:20210328T030000
TZOFFSETFROM:+0200
TZOFFSETTO:+0100
TZNAME:Europe/Vienna CET
END:STANDARD
BEGIN:STANDARD
DTSTART:20211031T020000
RDATE:20220327T030000
TZOFFSETFROM:+0200
TZOFFSETTO:+0100
TZNAME:Europe/Vienna CET
END:STANDARD
BEGIN:STANDARD
DTSTART:20221030T020000
RDATE:20230326T030000
TZOFFSETFROM:+0200
TZOFFSETTO:+0100
TZNAME:Europe/Vienna CET
END:STANDARD
BEGIN:STANDARD
DTSTART:20231029T020000
RDATE:20240331T030000
TZOFFSETFROM:+0200
TZOFFSETTO:+0100
TZNAME:Europe/Vienna CET
END:STANDARD
BEGIN:STANDARD
DTSTART:20241027T020000
RDATE:20250330T030000
TZOFFSETFROM:+0200
TZOFFSETTO:+0100
TZNAME:Europe/Vienna CET
END:STANDARD
BEGIN:STANDARD
DTSTART:20251026T020000
RDATE:20260329T030000
TZOFFSETFROM:+0200
TZOFFSETTO:+0100
TZNAME:Europe/Vienna CET
END:STANDARD
BEGIN:STANDARD
DTSTART:20261025T020000
RDATE:20270328T030000
TZOFFSETFROM:+0200
TZOFFSETTO:+0100
TZNAME:Europe/Vienna CET
END:STANDARD
BEGIN:STANDARD
DTSTART:20271031T020000
RDATE:20280326T030000
TZOFFSETFROM:+0200
TZOFFSETTO:+0100
TZNAME:Europe/Vienna CET
END:STANDARD
BEGIN:STANDARD
DTSTART:20281029T020000
RDATE:20290325T030000
TZOFFSETFROM:+0200
TZOFFSETTO:+0100
TZNAME:Europe/Vienna CET
END:STANDARD
BEGIN:STANDARD
DTSTART:20291028T020000
RDATE:20300331T030000
TZOFFSETFROM:+0200
TZOFFSETTO:+0100
TZNAME:Europe/Vienna CET
END:STANDARD
BEGIN:STANDARD
DTSTART:20301027T020000
RDATE:20310330T030000
TZOFFSETFROM:+0200
TZOFFSETTO:+0100
TZNAME:Europe/Vienna CET
END:STANDARD
BEGIN:STANDARD
DTSTART:20311026T020000
RDATE:20320328T030000
TZOFFSETFROM:+0200
TZOFFSETTO:+0100
TZNAME:Europe/Vienna CET
END:STANDARD
BEGIN:STANDARD
DTSTART:20321031T020000
RDATE:20330327T030000
TZOFFSETFROM:+0200
TZOFFSETTO:+0100
TZNAME:Europe/Vienna CET
END:STANDARD
BEGIN:STANDARD
DTSTART:20331030T020000
RDATE:20340326T030000
TZOFFSETFROM:+0200
TZOFFSETTO:+0100
TZNAME:Europe/Vienna CET
END:STANDARD
BEGIN:STANDARD
DTSTART:20341029T020000
RDATE:20350325T030000
TZOFFSETFROM:+0200
TZOFFSETTO:+0100
TZNAME:Europe/Vienna CET
END:STANDARD
BEGIN:DAYLIGHT
DTSTART:20180325T030000
RDATE:20181028T020000
TZOFFSETFROM:+0100
TZOFFSETTO:+0200
TZNAME:Europe/Vienna CEST
END:DAYLIGHT
BEGIN:DAYLIGHT
DTSTART:20190331T030000
RDATE:20191027T020000
TZOFFSETFROM:+0100
TZOFFSETTO:+0200
TZNAME:Europe/Vienna CEST
END:DAYLIGHT
BEGIN:DAYLIGHT
DTSTART:20200329T030000
RDATE:20201025T020000
TZOFFSETFROM:+0100
TZOFFSETTO:+0200
TZNAME:Europe/Vienna CEST
END:DAYLIGHT
BEGIN:DAYLIGHT
DTSTART:20210328T030000
RDATE:20211031T020000
TZOFFSETFROM:+0100
TZOFFSETTO:+0200
TZNAME:Europe/Vienna CEST
END:DAYLIGHT
BEGIN:DAYLIGHT
DTSTART:20220327T030000
RDATE:20221030T020000
TZOFFSETFROM:+0100
TZOFFSETTO:+0200
TZNAME:Europe/Vienna CEST
END:DAYLIGHT
BEGIN:DAYLIGHT
DTSTART:20230326T030000
RDATE:20231029T020000
TZOFFSETFROM:+0100
TZOFFSETTO:+0200
TZNAME:Europe/Vienna CEST
END:DAYLIGHT
BEGIN:DAYLIGHT
DTSTART:20240331T030000
RDATE:20241027T020000
TZOFFSETFROM:+0100
TZOFFSETTO:+0200
TZNAME:Europe/Vienna CEST
END:DAYLIGHT
BEGIN:DAYLIGHT
DTSTART:20250330T030000
RDATE:20251026T020000
TZOFFSETFROM:+0100
TZOFFSETTO:+0200
TZNAME:Europe/Vienna CEST
END:DAYLIGHT
BEGIN:DAYLIGHT
DTSTART:20260329T030000
RDATE:20261025T020000
TZOFFSETFROM:+0100
TZOFFSETTO:+0200
TZNAME:Europe/Vienna CEST
END:DAYLIGHT
BEGIN:DAYLIGHT
DTSTART:20270328T030000
RDATE:20271031T020000
TZOFFSETFROM:+0100
TZOFFSETTO:+0200
TZNAME:Europe/Vienna CEST
END:DAYLIGHT
BEGIN:DAYLIGHT
DTSTART:20280326T030000
RDATE:20281029T020000
TZOFFSETFROM:+0100
TZOFFSETTO:+0200
TZNAME:Europe/Vienna CEST
END:DAYLIGHT
BEGIN:DAYLIGHT
DTSTART:20290325T030000
RDATE:20291028T020000
TZOFFSETFROM:+0100
TZOFFSETTO:+0200
TZNAME:Europe/Vienna CEST
END:DAYLIGHT
BEGIN:DAYLIGHT
DTSTART:20300331T030000
RDATE:20301027T020000
TZOFFSETFROM:+0100
TZOFFSETTO:+0200
TZNAME:Europe/Vienna CEST
END:DAYLIGHT
BEGIN:DAYLIGHT
DTSTART:20310330T030000
RDATE:20311026T020000
TZOFFSETFROM:+0100
TZOFFSETTO:+0200
TZNAME:Europe/Vienna CEST
END:DAYLIGHT
BEGIN:DAYLIGHT
DTSTART:20320328T030000
RDATE:20321031T020000
TZOFFSETFROM:+0100
TZOFFSETTO:+0200
TZNAME:Europe/Vienna CEST
END:DAYLIGHT
BEGIN:DAYLIGHT
DTSTART:20330327T030000
RDATE:20331030T020000
TZOFFSETFROM:+0100
TZOFFSETTO:+0200
TZNAME:Europe/Vienna CEST
END:DAYLIGHT
BEGIN:DAYLIGHT
DTSTART:20340326T030000
RDATE:20341029T020000
TZOFFSETFROM:+0100
TZOFFSETTO:+0200
TZNAME:Europe/Vienna CEST
END:DAYLIGHT
END:VTIMEZONE
BEGIN:VEVENT
UID:
CATEGORIES:Symposium
SUMMARY:9th Gene Quantification Event -- qPCR dPCR & NGS 2019
LOCATION:Freising-Weihenstephan
DESCRIPTION;ENCODING=QUOTED-PRINTABLE:<p>	<br />	<a href="http://http://gene-quantification.de/qpcr-dpcr-ngs-2019
 /qpcr-dpcr-ngs-2019-new-logo.png" target="_blank">9th Gene Quantification E
 vent -- qPCR dPCR &amp; NGS 2019</a><br />	&nbsp;</p><div class="moz-signat
 ure">	<font face="Arial" size="1"><b>qPCR dPCR &amp; NGS 2019<br />	Next Ge
 neration Biomarkers -- Liquid Biopsy, Multi-Omics, MicroGenomics </b><br />
 	9th international Gene Quantification Event<br />	Symposium &amp; Applicat
 ion Workshops &amp; Industrial Exhibition<br />	18-22 March 2019<br />	TUM 
 School of Life Science<br />	Technical University of Munich, Freising-Weihe
 nstephan, Germany<br />	<a class="moz-txt-link-abbreviated" href="http://ww
 w.qPCR-dPCR-NGS-2019.net">www.qPCR-dPCR-NGS-2019.net</a><br />	Scientific b
 oard: Stephen Bustin, Mikael Kubista, Jim Huggett, Jo Vandesompele, Justin 
 O&#39;Grady, Vladimir Benes, Anders Stahlberg, Michael W. Pfaffl<br />	Scie
 ntific coordination: Michael W. Pfaffl <span id="cloak27995">This email add
 ress is being protected from spambots. You need JavaScript enabled to view 
 it.</span><script type='text/javascript'>
 //<!--
 document.getElementById(
 'cloak27995').innerHTML = '';
 var prefix = '&#109;a' + 'i&#108;' + '&#116;
 o';
 var path = 'hr' + 'ef' + '=';
 var addy27995 = 'GQ2019' + '&#64;';
 ad
 dy27995 = addy27995 + 'wzw' + '&#46;' + 't&#117;m' + '&#46;' + 'd&#101;';
 
 var addy_text27995 = 'GQ2019' + '&#64;' + 'wzw' + '&#46;' + 't&#117;m' + '&
 #46;' + 'd&#101;';
 document.getElementById('cloak27995').innerHTML += '<a 
 class="moz-txt-link-abbreviated" ' + path + '\'' + prefix + ':' + addy27995
  + '\'>'+addy_text27995+'<\/a>';
 //-->
 </script> Tel: 0049-8161-713511<br
  />	Event organization: Sylvia Pfaffl bioMCC <span id="cloak47195">This ema
 il address is being protected from spambots. You need JavaScript enabled to
  view it.</span><script type='text/javascript'>
 //<!--
 document.getElemen
 tById('cloak47195').innerHTML = '';
 var prefix = '&#109;a' + 'i&#108;' + '
 &#116;o';
 var path = 'hr' + 'ef' + '=';
 var addy47195 = 'Ev&#101;ntm&#97;
 n&#97;g&#101;m&#101;nt' + '&#64;';
 addy47195 = addy47195 + 'b&#105;&#111;M
 CC' + '&#46;' + 'c&#111;m';
 var addy_text47195 = 'Ev&#101;ntm&#97;n&#97;g&
 #101;m&#101;nt' + '&#64;' + 'b&#105;&#111;MCC' + '&#46;' + 'c&#111;m';
 doc
 ument.getElementById('cloak47195').innerHTML += '<a class="moz-txt-link-abb
 reviated" ' + path + '\'' + prefix + ':' + addy47195 + '\'>'+addy_text47195
 +'<\/a>';
 //-->
 </script> </font></div><p>	<br />	<br />	&nbsp;</p>
CONTACT:http://www.qPCR-dPCR-NGS-2019.net
DTSTAMP:20260422T060046Z
DTSTART;TZID=Europe/Vienna:20190318T090000
DTEND;TZID=Europe/Vienna:20190322T170000
SEQUENCE:1
TRANSP:OPAQUE
END:VEVENT
END:VCALENDAR