BEGIN:VCALENDAR
VERSION:2.0
PRODID:-//jEvents 2.0 for Joomla//EN
CALSCALE:GREGORIAN
METHOD:PUBLISH
BEGIN:VTIMEZONE
TZID:Europe/Vienna
BEGIN:STANDARD
DTSTART:20171128T090000
RDATE:20180325T030000
TZOFFSETFROM:+0200
TZOFFSETTO:+0100
TZNAME:Europe/Vienna CET
END:STANDARD
BEGIN:STANDARD
DTSTART:20181028T020000
RDATE:20190331T030000
TZOFFSETFROM:+0200
TZOFFSETTO:+0100
TZNAME:Europe/Vienna CET
END:STANDARD
BEGIN:STANDARD
DTSTART:20191027T020000
RDATE:20200329T030000
TZOFFSETFROM:+0200
TZOFFSETTO:+0100
TZNAME:Europe/Vienna CET
END:STANDARD
BEGIN:STANDARD
DTSTART:20201025T020000
RDATE:20210328T030000
TZOFFSETFROM:+0200
TZOFFSETTO:+0100
TZNAME:Europe/Vienna CET
END:STANDARD
BEGIN:STANDARD
DTSTART:20211031T020000
RDATE:20220327T030000
TZOFFSETFROM:+0200
TZOFFSETTO:+0100
TZNAME:Europe/Vienna CET
END:STANDARD
BEGIN:STANDARD
DTSTART:20221030T020000
RDATE:20230326T030000
TZOFFSETFROM:+0200
TZOFFSETTO:+0100
TZNAME:Europe/Vienna CET
END:STANDARD
BEGIN:STANDARD
DTSTART:20231029T020000
RDATE:20240331T030000
TZOFFSETFROM:+0200
TZOFFSETTO:+0100
TZNAME:Europe/Vienna CET
END:STANDARD
BEGIN:STANDARD
DTSTART:20241027T020000
RDATE:20250330T030000
TZOFFSETFROM:+0200
TZOFFSETTO:+0100
TZNAME:Europe/Vienna CET
END:STANDARD
BEGIN:STANDARD
DTSTART:20251026T020000
RDATE:20260329T030000
TZOFFSETFROM:+0200
TZOFFSETTO:+0100
TZNAME:Europe/Vienna CET
END:STANDARD
BEGIN:STANDARD
DTSTART:20261025T020000
RDATE:20270328T030000
TZOFFSETFROM:+0200
TZOFFSETTO:+0100
TZNAME:Europe/Vienna CET
END:STANDARD
BEGIN:STANDARD
DTSTART:20271031T020000
RDATE:20280326T030000
TZOFFSETFROM:+0200
TZOFFSETTO:+0100
TZNAME:Europe/Vienna CET
END:STANDARD
BEGIN:STANDARD
DTSTART:20281029T020000
RDATE:20290325T030000
TZOFFSETFROM:+0200
TZOFFSETTO:+0100
TZNAME:Europe/Vienna CET
END:STANDARD
BEGIN:STANDARD
DTSTART:20291028T020000
RDATE:20300331T030000
TZOFFSETFROM:+0200
TZOFFSETTO:+0100
TZNAME:Europe/Vienna CET
END:STANDARD
BEGIN:STANDARD
DTSTART:20301027T020000
RDATE:20310330T030000
TZOFFSETFROM:+0200
TZOFFSETTO:+0100
TZNAME:Europe/Vienna CET
END:STANDARD
BEGIN:STANDARD
DTSTART:20311026T020000
RDATE:20320328T030000
TZOFFSETFROM:+0200
TZOFFSETTO:+0100
TZNAME:Europe/Vienna CET
END:STANDARD
BEGIN:STANDARD
DTSTART:20321031T020000
RDATE:20330327T030000
TZOFFSETFROM:+0200
TZOFFSETTO:+0100
TZNAME:Europe/Vienna CET
END:STANDARD
BEGIN:STANDARD
DTSTART:20331030T020000
RDATE:20340326T030000
TZOFFSETFROM:+0200
TZOFFSETTO:+0100
TZNAME:Europe/Vienna CET
END:STANDARD
BEGIN:STANDARD
DTSTART:20341029T020000
RDATE:20350325T030000
TZOFFSETFROM:+0200
TZOFFSETTO:+0100
TZNAME:Europe/Vienna CET
END:STANDARD
BEGIN:DAYLIGHT
DTSTART:20180325T030000
RDATE:20181028T020000
TZOFFSETFROM:+0100
TZOFFSETTO:+0200
TZNAME:Europe/Vienna CEST
END:DAYLIGHT
BEGIN:DAYLIGHT
DTSTART:20190331T030000
RDATE:20191027T020000
TZOFFSETFROM:+0100
TZOFFSETTO:+0200
TZNAME:Europe/Vienna CEST
END:DAYLIGHT
BEGIN:DAYLIGHT
DTSTART:20200329T030000
RDATE:20201025T020000
TZOFFSETFROM:+0100
TZOFFSETTO:+0200
TZNAME:Europe/Vienna CEST
END:DAYLIGHT
BEGIN:DAYLIGHT
DTSTART:20210328T030000
RDATE:20211031T020000
TZOFFSETFROM:+0100
TZOFFSETTO:+0200
TZNAME:Europe/Vienna CEST
END:DAYLIGHT
BEGIN:DAYLIGHT
DTSTART:20220327T030000
RDATE:20221030T020000
TZOFFSETFROM:+0100
TZOFFSETTO:+0200
TZNAME:Europe/Vienna CEST
END:DAYLIGHT
BEGIN:DAYLIGHT
DTSTART:20230326T030000
RDATE:20231029T020000
TZOFFSETFROM:+0100
TZOFFSETTO:+0200
TZNAME:Europe/Vienna CEST
END:DAYLIGHT
BEGIN:DAYLIGHT
DTSTART:20240331T030000
RDATE:20241027T020000
TZOFFSETFROM:+0100
TZOFFSETTO:+0200
TZNAME:Europe/Vienna CEST
END:DAYLIGHT
BEGIN:DAYLIGHT
DTSTART:20250330T030000
RDATE:20251026T020000
TZOFFSETFROM:+0100
TZOFFSETTO:+0200
TZNAME:Europe/Vienna CEST
END:DAYLIGHT
BEGIN:DAYLIGHT
DTSTART:20260329T030000
RDATE:20261025T020000
TZOFFSETFROM:+0100
TZOFFSETTO:+0200
TZNAME:Europe/Vienna CEST
END:DAYLIGHT
BEGIN:DAYLIGHT
DTSTART:20270328T030000
RDATE:20271031T020000
TZOFFSETFROM:+0100
TZOFFSETTO:+0200
TZNAME:Europe/Vienna CEST
END:DAYLIGHT
BEGIN:DAYLIGHT
DTSTART:20280326T030000
RDATE:20281029T020000
TZOFFSETFROM:+0100
TZOFFSETTO:+0200
TZNAME:Europe/Vienna CEST
END:DAYLIGHT
BEGIN:DAYLIGHT
DTSTART:20290325T030000
RDATE:20291028T020000
TZOFFSETFROM:+0100
TZOFFSETTO:+0200
TZNAME:Europe/Vienna CEST
END:DAYLIGHT
BEGIN:DAYLIGHT
DTSTART:20300331T030000
RDATE:20301027T020000
TZOFFSETFROM:+0100
TZOFFSETTO:+0200
TZNAME:Europe/Vienna CEST
END:DAYLIGHT
BEGIN:DAYLIGHT
DTSTART:20310330T030000
RDATE:20311026T020000
TZOFFSETFROM:+0100
TZOFFSETTO:+0200
TZNAME:Europe/Vienna CEST
END:DAYLIGHT
BEGIN:DAYLIGHT
DTSTART:20320328T030000
RDATE:20321031T020000
TZOFFSETFROM:+0100
TZOFFSETTO:+0200
TZNAME:Europe/Vienna CEST
END:DAYLIGHT
BEGIN:DAYLIGHT
DTSTART:20330327T030000
RDATE:20331030T020000
TZOFFSETFROM:+0100
TZOFFSETTO:+0200
TZNAME:Europe/Vienna CEST
END:DAYLIGHT
BEGIN:DAYLIGHT
DTSTART:20340326T030000
RDATE:20341029T020000
TZOFFSETFROM:+0100
TZOFFSETTO:+0200
TZNAME:Europe/Vienna CEST
END:DAYLIGHT
END:VTIMEZONE
BEGIN:VEVENT
UID:
CATEGORIES:Kongress
SUMMARY:LBG Meeting for Health Sciences
LOCATION:Radisson Blu Park Royal Palace Hotel, Vienna Schlossallee 8, 1140 Vienna
DESCRIPTION;ENCODING=QUOTED-PRINTABLE:<p>	CALL FOR ABSTRACTS NOW OPEN</p><p background-color:="" font-size:="" he
 lvetica="" sans="" source="" style="margin: 0px 0px 0.6em; text-align: just
 ify;">	<span style="font-family: arial, helvetica, sans-serif;">REGISTRATIO
 N:</span></p><p background-color:="" font-size:="" helvetica="" sans="" sou
 rce="" style="margin: 0px 0px 0.6em; text-align: justify;">	<span style="fo
 nt-family: arial, helvetica, sans-serif;"><a class="external" href="http://
 www.healthsciences.lbg.ac.at/" style="color: rgb(21, 48, 120);" target="_bl
 ank">www.healthsciences.lbg.ac.at</a></span></p><p>	<span style="font-famil
 y: arial, helvetica, sans-serif;">The LBG Meeting for Health Sciences encou
 rages and supports young scientists by offering them an opportunity to pres
 ent their work. Moreover, it is a chance for early researchers to establish
  themselves within the scientific community. The conference focuses on the 
 translation of research results from theory into practice. Therefore, abstr
 acts on preclinical, clinical or implementation research are welcome. The t
 hematic sessions will include key-note lectures by international experts an
 d oral presentations of the best submitted abstracts.</span></p><p backgrou
 nd-color:="" font-size:="" helvetica="" sans="" source="" style="margin: 0p
 x 0px 0.6em; text-align: justify;">	&nbsp;</p><p background-color:="" font-
 size:="" helvetica="" sans="" source="" style="margin: 0px 0px 0.6em; text-
 align: justify;">	&nbsp;</p><p style="margin: 0px 0px 0.6em; text-align: ju
 stify; background-color: rgba(255, 255, 255, 0.8);">	<a href="http://www.lb
 g.ac.at/files/documents/lbg_hs_meeting_programm_2018_25.06.2018.pdf"><font 
 face="arial, helvetica, sans-serif">PROGRAMME</font></a></p><p style="margi
 n: 0px 0px 0.6em; text-align: justify; background-color: rgba(255, 255, 255
 , 0.8);">	<a href="http://www.lbg.ac.at/files/documents/lbg_meeting_hs_fact
 sheet_2018.pdf"><font face="arial, helvetica, sans-serif">FACTSHEET</font><
 /a></p><p background-color:="" font-size:="" helvetica="" sans="" source=""
  style="margin: 0px 0px 0.6em; text-align: justify;">	&nbsp;</p><p backgrou
 nd-color:="" font-size:="" helvetica="" sans="" source="" style="margin: 0p
 x 0px 0.6em; text-align: justify;">	<span style="font-family: arial, helvet
 ica, sans-serif;">Scientific sessions on:</span></p><ul background-color:="
 " font-size:="" helvetica="" sans="" source="" style="padding-right: 0px; p
 adding-left: 0px; margin: 0px 0px 0.6em 25px;">	<li style="line-height: 1.2
 em;">		<span style="font-family: arial, helvetica, sans-serif;">Cardiovascu
 lar research</span></li>	<li style="line-height: 1.2em;">		<span style="fon
 t-family: arial, helvetica, sans-serif;">Haematology and cancer research</s
 pan></li>	<li style="line-height: 1.2em;">		<span style="font-family: arial
 , helvetica, sans-serif;">Mental health, psychology, psychiatry</span></li>
 	<li style="line-height: 1.2em;">		<span style="font-family: arial, helveti
 ca, sans-serif;">Regenerative medicine research and artificial organs</span
 ></li></ul><p style="line-height: 1.2em;">	&nbsp;</p><p style="line-height:
  1.2em;">	AWARD CEREMONY Host: Stuart Freeman, FM4 Morning Show</p><p style
 ="line-height: 1.2em;">	&nbsp;</p><p style="line-height: 1.2em;">	<span sty
 le="font-family: arial, helvetica, sans-serif;"><span style="color: rgb(51,
  51, 51);">Conference Partner:</span><br style="box-sizing: unset; color: r
 gb(51, 51, 51); font-family: FiraSans, Tahoma, Verdana, Arial, sans-serif; 
 font-size: 13px;" />	<span style="color: rgb(51, 51, 51);">Gesundheit &Ouml
 ;sterreich GmbH</span><br style="box-sizing: unset; color: rgb(51, 51, 51);
  font-family: FiraSans, Tahoma, Verdana, Arial, sans-serif; font-size: 13px
 ;" />	<span style="color: rgb(51, 51, 51);">Medizinische Universit&auml;t W
 ien</span><br style="box-sizing: unset; color: rgb(51, 51, 51); font-family
 : FiraSans, Tahoma, Verdana, Arial, sans-serif; font-size: 13px;" />	<span 
 style="color: rgb(51, 51, 51);">Medizinische Universit&auml;t Graz</span><b
 r style="box-sizing: unset; color: rgb(51, 51, 51); font-family: FiraSans, 
 Tahoma, Verdana, Arial, sans-serif; font-size: 13px;" />	<span style="color
 : rgb(51, 51, 51);">Medizinische Universit&auml;t Innsbruck</span></span></
 p>
CONTACT:LBG Meeting for Health Sciences
DTSTAMP:20260421T051027Z
DTSTART;TZID=Europe/Vienna:20181129T090000
DTEND;TZID=Europe/Vienna:20181130T000000
SEQUENCE:1
TRANSP:OPAQUE
END:VEVENT
END:VCALENDAR