BEGIN:VCALENDAR
VERSION:2.0
PRODID:-//jEvents 2.0 for Joomla//EN
CALSCALE:GREGORIAN
METHOD:PUBLISH
BEGIN:VTIMEZONE
TZID:Europe/Vienna
BEGIN:STANDARD
DTSTART:20171029T020000
RDATE:20180325T030000
TZOFFSETFROM:+0200
TZOFFSETTO:+0100
TZNAME:Europe/Vienna CET
END:STANDARD
BEGIN:STANDARD
DTSTART:20181028T020000
RDATE:20190331T030000
TZOFFSETFROM:+0200
TZOFFSETTO:+0100
TZNAME:Europe/Vienna CET
END:STANDARD
BEGIN:STANDARD
DTSTART:20191027T020000
RDATE:20200329T030000
TZOFFSETFROM:+0200
TZOFFSETTO:+0100
TZNAME:Europe/Vienna CET
END:STANDARD
BEGIN:STANDARD
DTSTART:20201025T020000
RDATE:20210328T030000
TZOFFSETFROM:+0200
TZOFFSETTO:+0100
TZNAME:Europe/Vienna CET
END:STANDARD
BEGIN:STANDARD
DTSTART:20211031T020000
RDATE:20220327T030000
TZOFFSETFROM:+0200
TZOFFSETTO:+0100
TZNAME:Europe/Vienna CET
END:STANDARD
BEGIN:STANDARD
DTSTART:20221030T020000
RDATE:20230326T030000
TZOFFSETFROM:+0200
TZOFFSETTO:+0100
TZNAME:Europe/Vienna CET
END:STANDARD
BEGIN:STANDARD
DTSTART:20231029T020000
RDATE:20240331T030000
TZOFFSETFROM:+0200
TZOFFSETTO:+0100
TZNAME:Europe/Vienna CET
END:STANDARD
BEGIN:STANDARD
DTSTART:20241027T020000
RDATE:20250330T030000
TZOFFSETFROM:+0200
TZOFFSETTO:+0100
TZNAME:Europe/Vienna CET
END:STANDARD
BEGIN:STANDARD
DTSTART:20251026T020000
RDATE:20260329T030000
TZOFFSETFROM:+0200
TZOFFSETTO:+0100
TZNAME:Europe/Vienna CET
END:STANDARD
BEGIN:STANDARD
DTSTART:20261025T020000
RDATE:20270328T030000
TZOFFSETFROM:+0200
TZOFFSETTO:+0100
TZNAME:Europe/Vienna CET
END:STANDARD
BEGIN:STANDARD
DTSTART:20271031T020000
RDATE:20280326T030000
TZOFFSETFROM:+0200
TZOFFSETTO:+0100
TZNAME:Europe/Vienna CET
END:STANDARD
BEGIN:STANDARD
DTSTART:20281029T020000
RDATE:20290325T030000
TZOFFSETFROM:+0200
TZOFFSETTO:+0100
TZNAME:Europe/Vienna CET
END:STANDARD
BEGIN:STANDARD
DTSTART:20291028T020000
RDATE:20300331T030000
TZOFFSETFROM:+0200
TZOFFSETTO:+0100
TZNAME:Europe/Vienna CET
END:STANDARD
BEGIN:STANDARD
DTSTART:20301027T020000
RDATE:20310330T030000
TZOFFSETFROM:+0200
TZOFFSETTO:+0100
TZNAME:Europe/Vienna CET
END:STANDARD
BEGIN:STANDARD
DTSTART:20311026T020000
RDATE:20320328T030000
TZOFFSETFROM:+0200
TZOFFSETTO:+0100
TZNAME:Europe/Vienna CET
END:STANDARD
BEGIN:STANDARD
DTSTART:20321031T020000
RDATE:20330327T030000
TZOFFSETFROM:+0200
TZOFFSETTO:+0100
TZNAME:Europe/Vienna CET
END:STANDARD
BEGIN:STANDARD
DTSTART:20331030T020000
RDATE:20340326T030000
TZOFFSETFROM:+0200
TZOFFSETTO:+0100
TZNAME:Europe/Vienna CET
END:STANDARD
BEGIN:STANDARD
DTSTART:20341029T020000
RDATE:20350325T030000
TZOFFSETFROM:+0200
TZOFFSETTO:+0100
TZNAME:Europe/Vienna CET
END:STANDARD
BEGIN:DAYLIGHT
DTSTART:20171010T090000
RDATE:20171029T020000
TZOFFSETFROM:+0100
TZOFFSETTO:+0200
TZNAME:Europe/Vienna CEST
END:DAYLIGHT
BEGIN:DAYLIGHT
DTSTART:20180325T030000
RDATE:20181028T020000
TZOFFSETFROM:+0100
TZOFFSETTO:+0200
TZNAME:Europe/Vienna CEST
END:DAYLIGHT
BEGIN:DAYLIGHT
DTSTART:20190331T030000
RDATE:20191027T020000
TZOFFSETFROM:+0100
TZOFFSETTO:+0200
TZNAME:Europe/Vienna CEST
END:DAYLIGHT
BEGIN:DAYLIGHT
DTSTART:20200329T030000
RDATE:20201025T020000
TZOFFSETFROM:+0100
TZOFFSETTO:+0200
TZNAME:Europe/Vienna CEST
END:DAYLIGHT
BEGIN:DAYLIGHT
DTSTART:20210328T030000
RDATE:20211031T020000
TZOFFSETFROM:+0100
TZOFFSETTO:+0200
TZNAME:Europe/Vienna CEST
END:DAYLIGHT
BEGIN:DAYLIGHT
DTSTART:20220327T030000
RDATE:20221030T020000
TZOFFSETFROM:+0100
TZOFFSETTO:+0200
TZNAME:Europe/Vienna CEST
END:DAYLIGHT
BEGIN:DAYLIGHT
DTSTART:20230326T030000
RDATE:20231029T020000
TZOFFSETFROM:+0100
TZOFFSETTO:+0200
TZNAME:Europe/Vienna CEST
END:DAYLIGHT
BEGIN:DAYLIGHT
DTSTART:20240331T030000
RDATE:20241027T020000
TZOFFSETFROM:+0100
TZOFFSETTO:+0200
TZNAME:Europe/Vienna CEST
END:DAYLIGHT
BEGIN:DAYLIGHT
DTSTART:20250330T030000
RDATE:20251026T020000
TZOFFSETFROM:+0100
TZOFFSETTO:+0200
TZNAME:Europe/Vienna CEST
END:DAYLIGHT
BEGIN:DAYLIGHT
DTSTART:20260329T030000
RDATE:20261025T020000
TZOFFSETFROM:+0100
TZOFFSETTO:+0200
TZNAME:Europe/Vienna CEST
END:DAYLIGHT
BEGIN:DAYLIGHT
DTSTART:20270328T030000
RDATE:20271031T020000
TZOFFSETFROM:+0100
TZOFFSETTO:+0200
TZNAME:Europe/Vienna CEST
END:DAYLIGHT
BEGIN:DAYLIGHT
DTSTART:20280326T030000
RDATE:20281029T020000
TZOFFSETFROM:+0100
TZOFFSETTO:+0200
TZNAME:Europe/Vienna CEST
END:DAYLIGHT
BEGIN:DAYLIGHT
DTSTART:20290325T030000
RDATE:20291028T020000
TZOFFSETFROM:+0100
TZOFFSETTO:+0200
TZNAME:Europe/Vienna CEST
END:DAYLIGHT
BEGIN:DAYLIGHT
DTSTART:20300331T030000
RDATE:20301027T020000
TZOFFSETFROM:+0100
TZOFFSETTO:+0200
TZNAME:Europe/Vienna CEST
END:DAYLIGHT
BEGIN:DAYLIGHT
DTSTART:20310330T030000
RDATE:20311026T020000
TZOFFSETFROM:+0100
TZOFFSETTO:+0200
TZNAME:Europe/Vienna CEST
END:DAYLIGHT
BEGIN:DAYLIGHT
DTSTART:20320328T030000
RDATE:20321031T020000
TZOFFSETFROM:+0100
TZOFFSETTO:+0200
TZNAME:Europe/Vienna CEST
END:DAYLIGHT
BEGIN:DAYLIGHT
DTSTART:20330327T030000
RDATE:20331030T020000
TZOFFSETFROM:+0100
TZOFFSETTO:+0200
TZNAME:Europe/Vienna CEST
END:DAYLIGHT
BEGIN:DAYLIGHT
DTSTART:20340326T030000
RDATE:20341029T020000
TZOFFSETFROM:+0100
TZOFFSETTO:+0200
TZNAME:Europe/Vienna CEST
END:DAYLIGHT
END:VTIMEZONE
BEGIN:VEVENT
UID:
CATEGORIES:Symposium
SUMMARY:ÖPPM – Joining Forces for Personalized Medicine
LOCATION:Graz
DESCRIPTION;ENCODING=QUOTED-PRINTABLE:\n\n	&nbsp;\n\n\n	&Ouml;PPM &ndash; Joining Forces for Personalized Medicin
 e, October 11-12, 2018, Graz\n\n\n	&nbsp;\n\n\n	[see below for the English 
 version]\n\n\n	&nbsp;\n\n\n	Wir laden Sie sehr herzlich zur 2. Jahrestagung
  der &Ouml;sterreichischen Plattform f&uuml;r Personalisierte Medizin (&Oum
 l;PPM) am 11.-12. Oktober 2018 am Neuen Campus der Medizinischen Universit&
 auml;t Graz ein.\n\n\n	Die Personalisierte Medizin z&auml;hlt zu den gro&sz
 lig;en gesellschaftlichen Herausforderungen der Gegenwart und Zukunft. Die 
 &Ouml;PPM wurde auf Initiative des Bundesministeriums f&uuml;r Bildung, Wis
 senschaft und Forschung (BMBWF) initiiert und etabliert eine nationale Vern
 etzungsplattform, die sich an alle Stakeholder und Interessenten richtet, d
 ie zur Erforschung und Umsetzung der Personalisierten Medizin in &Ouml;ster
 reich beitragen wollen. Durch verst&auml;rkte interdisziplin&auml;re und st
 rategische Zusammenarbeit soll das Thema in &Ouml;sterreich, im europ&auml;
 ischen und internationalen Kontext vorangetrieben werden.\n\n\n	Im ersten J
 ahr ihres Bestehens konnte die Plattform &uuml;ber 100 Mitglieder gewinnen.
  Darunter befinden sich Expertinnen und Experten aus den Bereichen Medizin,
  Grundlagenforschung, Sozialwissenschaft, Wissenschaftskommunikation und Pa
 tientInnen-Vertretungen, welche ihre Expertise einbringen und damit die &Ou
 ml;PPM-Community bilden. Vier Arbeitsgruppen (Grundlagen- und translational
 e Forschung, Gesellschaft und Ethik, Infrastruktur und Technologie, Klinisc
 he Anwendungen) bilden den Rahmen f&uuml;r ihr Engagement in der Plattform.
 \n\n\n	Unter dem Titel &bdquo;&Ouml;PPM &ndash; Gemeinsame Impulse f&uuml;r
  Personalisierte Medizin&ldquo; wird die Veranstaltung neben einem interdis
 ziplin&auml;ren wissenschaftlichen Programm mit einer &ouml;ffentlichen Pod
 iumsdiskussion (&bdquo;Personalisierte Medizin &ndash; Wer oder was steht i
 m Mittelpunkt?&ldquo;) eine weitere Gelegenheit sein, die transsektorale Ve
 rnetzung aller Beteiligten weiter auszubauen.\n\n\n	Interessenten sind herz
 lich eingeladen, eigene Beitr&auml;ge bis zum 22. September 2018 einzureich
 en. Von besonderem Interesse sind Kurzvorstellungen relevanter Projekte, In
 itiativen oder Stakeholder, die Sie im Rahmen eines Posters oder Ausstellun
 gsstandes pr&auml;sentieren m&ouml;chten.\n\n\n	&nbsp;\n\n\n	Programm\n\n\n
 	&nbsp;\n\n\n	Anmeldung: https://interconvention.eventsair.com/oppm/anmeldu
 ng\n\n\n	Webseite: http://www.personalized-medicine.at\n\n\n	Kontakt: This 
 email address is being protected from spambots. You need JavaScript enabled
  to view it.
 //
 \n\n\n	&nbsp;\n\n\n	&nbsp;\n\n\n	We cordially invite you 
 to the 2nd Annual Meeting of the Austrian Platform for Personalized Medicin
 e (&Ouml;PPM) taking place at the new campus of the Medical University of G
 raz on October 11-12, 2018.\n\n\n	Personalized medicine is one of the grand
  societal challenges of the present and future. The &Ouml;PPM has been init
 iated by the Federal Ministry of Education, Science and Research (BMBWF). I
 t establishes a national networking platform that seeks to connect all stak
 eholders and interested parties in the field that would like to contribute 
 to the future of personalized medicine in Austria and beyond.\n\n\n	During 
 the first year of its existence, the Platform has assembled more than 100 m
 embers representing the &Ouml;PPM community. They include experts from medi
 cine, basic research, social science, science communication, and patient ad
 vocacy groups. Four working groups (Basic and Translational Research, Socie
 ty and Ethics, Infrastructure and Technology, Clinical Applications) create
  the framework for their active engagement within the Platform.\n\n\n	Under
  the heading &Ouml;PPM &ndash; Joining Forces for Personalized Medicine, ou
 r 2nd Annual Meeting &nbsp;will provide a comprehensive interdisciplinary s
 cientific program including a public panel discussion entitled &ldquo;Perso
 nalisierte Medizin &ndash; Wer oder was steht im Mittelpunkt?&rdquo;. The m
 eeting will also provide ample opportunity to further intensify the trans-s
 ectoral networking of all participants and stakeholders.\n\n\n	Participants
  are invited to submit abstracts with suggested contributions by September 
 22nd, 2018. Of particular interest will be poster presentations or exhibiti
 on booths by which stakeholders will present their projects and initiatives
 .\n\n\n	Registration: https://interconvention.eventsair.com/oppm/anmeldung&
 nbsp; &nbsp;\n\n\n	Website: http://www.personalized-medicine.at\n\n\n	Conta
 ct: This email address is being protected from spambots. You need JavaScrip
 t enabled to view it.
 //
 \n
CONTACT:http://www.personalized-medicine.at
DTSTAMP:20260420T101122Z
DTSTART;TZID=Europe/Vienna:20181011T090000
DTEND;TZID=Europe/Vienna:20181012T170000
SEQUENCE:1
TRANSP:OPAQUE
END:VEVENT
END:VCALENDAR