BEGIN:VCALENDAR
VERSION:2.0
PRODID:-//jEvents 2.0 for Joomla//EN
CALSCALE:GREGORIAN
METHOD:PUBLISH
BEGIN:VTIMEZONE
TZID:Europe/Vienna
BEGIN:STANDARD
DTSTART:20170225T161500
RDATE:20170326T030000
TZOFFSETFROM:+0200
TZOFFSETTO:+0100
TZNAME:Europe/Vienna CET
END:STANDARD
BEGIN:STANDARD
DTSTART:20171029T020000
RDATE:20180325T030000
TZOFFSETFROM:+0200
TZOFFSETTO:+0100
TZNAME:Europe/Vienna CET
END:STANDARD
BEGIN:STANDARD
DTSTART:20181028T020000
RDATE:20190331T030000
TZOFFSETFROM:+0200
TZOFFSETTO:+0100
TZNAME:Europe/Vienna CET
END:STANDARD
BEGIN:STANDARD
DTSTART:20191027T020000
RDATE:20200329T030000
TZOFFSETFROM:+0200
TZOFFSETTO:+0100
TZNAME:Europe/Vienna CET
END:STANDARD
BEGIN:STANDARD
DTSTART:20201025T020000
RDATE:20210328T030000
TZOFFSETFROM:+0200
TZOFFSETTO:+0100
TZNAME:Europe/Vienna CET
END:STANDARD
BEGIN:STANDARD
DTSTART:20211031T020000
RDATE:20220327T030000
TZOFFSETFROM:+0200
TZOFFSETTO:+0100
TZNAME:Europe/Vienna CET
END:STANDARD
BEGIN:STANDARD
DTSTART:20221030T020000
RDATE:20230326T030000
TZOFFSETFROM:+0200
TZOFFSETTO:+0100
TZNAME:Europe/Vienna CET
END:STANDARD
BEGIN:STANDARD
DTSTART:20231029T020000
RDATE:20240331T030000
TZOFFSETFROM:+0200
TZOFFSETTO:+0100
TZNAME:Europe/Vienna CET
END:STANDARD
BEGIN:STANDARD
DTSTART:20241027T020000
RDATE:20250330T030000
TZOFFSETFROM:+0200
TZOFFSETTO:+0100
TZNAME:Europe/Vienna CET
END:STANDARD
BEGIN:STANDARD
DTSTART:20251026T020000
RDATE:20260329T030000
TZOFFSETFROM:+0200
TZOFFSETTO:+0100
TZNAME:Europe/Vienna CET
END:STANDARD
BEGIN:STANDARD
DTSTART:20261025T020000
RDATE:20270328T030000
TZOFFSETFROM:+0200
TZOFFSETTO:+0100
TZNAME:Europe/Vienna CET
END:STANDARD
BEGIN:STANDARD
DTSTART:20271031T020000
RDATE:20280326T030000
TZOFFSETFROM:+0200
TZOFFSETTO:+0100
TZNAME:Europe/Vienna CET
END:STANDARD
BEGIN:STANDARD
DTSTART:20281029T020000
RDATE:20290325T030000
TZOFFSETFROM:+0200
TZOFFSETTO:+0100
TZNAME:Europe/Vienna CET
END:STANDARD
BEGIN:STANDARD
DTSTART:20291028T020000
RDATE:20300331T030000
TZOFFSETFROM:+0200
TZOFFSETTO:+0100
TZNAME:Europe/Vienna CET
END:STANDARD
BEGIN:STANDARD
DTSTART:20301027T020000
RDATE:20310330T030000
TZOFFSETFROM:+0200
TZOFFSETTO:+0100
TZNAME:Europe/Vienna CET
END:STANDARD
BEGIN:STANDARD
DTSTART:20311026T020000
RDATE:20320328T030000
TZOFFSETFROM:+0200
TZOFFSETTO:+0100
TZNAME:Europe/Vienna CET
END:STANDARD
BEGIN:STANDARD
DTSTART:20321031T020000
RDATE:20330327T030000
TZOFFSETFROM:+0200
TZOFFSETTO:+0100
TZNAME:Europe/Vienna CET
END:STANDARD
BEGIN:STANDARD
DTSTART:20331030T020000
RDATE:20340326T030000
TZOFFSETFROM:+0200
TZOFFSETTO:+0100
TZNAME:Europe/Vienna CET
END:STANDARD
BEGIN:STANDARD
DTSTART:20341029T020000
RDATE:20350325T030000
TZOFFSETFROM:+0200
TZOFFSETTO:+0100
TZNAME:Europe/Vienna CET
END:STANDARD
BEGIN:DAYLIGHT
DTSTART:20170326T030000
RDATE:20171029T020000
TZOFFSETFROM:+0100
TZOFFSETTO:+0200
TZNAME:Europe/Vienna CEST
END:DAYLIGHT
BEGIN:DAYLIGHT
DTSTART:20180325T030000
RDATE:20181028T020000
TZOFFSETFROM:+0100
TZOFFSETTO:+0200
TZNAME:Europe/Vienna CEST
END:DAYLIGHT
BEGIN:DAYLIGHT
DTSTART:20190331T030000
RDATE:20191027T020000
TZOFFSETFROM:+0100
TZOFFSETTO:+0200
TZNAME:Europe/Vienna CEST
END:DAYLIGHT
BEGIN:DAYLIGHT
DTSTART:20200329T030000
RDATE:20201025T020000
TZOFFSETFROM:+0100
TZOFFSETTO:+0200
TZNAME:Europe/Vienna CEST
END:DAYLIGHT
BEGIN:DAYLIGHT
DTSTART:20210328T030000
RDATE:20211031T020000
TZOFFSETFROM:+0100
TZOFFSETTO:+0200
TZNAME:Europe/Vienna CEST
END:DAYLIGHT
BEGIN:DAYLIGHT
DTSTART:20220327T030000
RDATE:20221030T020000
TZOFFSETFROM:+0100
TZOFFSETTO:+0200
TZNAME:Europe/Vienna CEST
END:DAYLIGHT
BEGIN:DAYLIGHT
DTSTART:20230326T030000
RDATE:20231029T020000
TZOFFSETFROM:+0100
TZOFFSETTO:+0200
TZNAME:Europe/Vienna CEST
END:DAYLIGHT
BEGIN:DAYLIGHT
DTSTART:20240331T030000
RDATE:20241027T020000
TZOFFSETFROM:+0100
TZOFFSETTO:+0200
TZNAME:Europe/Vienna CEST
END:DAYLIGHT
BEGIN:DAYLIGHT
DTSTART:20250330T030000
RDATE:20251026T020000
TZOFFSETFROM:+0100
TZOFFSETTO:+0200
TZNAME:Europe/Vienna CEST
END:DAYLIGHT
BEGIN:DAYLIGHT
DTSTART:20260329T030000
RDATE:20261025T020000
TZOFFSETFROM:+0100
TZOFFSETTO:+0200
TZNAME:Europe/Vienna CEST
END:DAYLIGHT
BEGIN:DAYLIGHT
DTSTART:20270328T030000
RDATE:20271031T020000
TZOFFSETFROM:+0100
TZOFFSETTO:+0200
TZNAME:Europe/Vienna CEST
END:DAYLIGHT
BEGIN:DAYLIGHT
DTSTART:20280326T030000
RDATE:20281029T020000
TZOFFSETFROM:+0100
TZOFFSETTO:+0200
TZNAME:Europe/Vienna CEST
END:DAYLIGHT
BEGIN:DAYLIGHT
DTSTART:20290325T030000
RDATE:20291028T020000
TZOFFSETFROM:+0100
TZOFFSETTO:+0200
TZNAME:Europe/Vienna CEST
END:DAYLIGHT
BEGIN:DAYLIGHT
DTSTART:20300331T030000
RDATE:20301027T020000
TZOFFSETFROM:+0100
TZOFFSETTO:+0200
TZNAME:Europe/Vienna CEST
END:DAYLIGHT
BEGIN:DAYLIGHT
DTSTART:20310330T030000
RDATE:20311026T020000
TZOFFSETFROM:+0100
TZOFFSETTO:+0200
TZNAME:Europe/Vienna CEST
END:DAYLIGHT
BEGIN:DAYLIGHT
DTSTART:20320328T030000
RDATE:20321031T020000
TZOFFSETFROM:+0100
TZOFFSETTO:+0200
TZNAME:Europe/Vienna CEST
END:DAYLIGHT
BEGIN:DAYLIGHT
DTSTART:20330327T030000
RDATE:20331030T020000
TZOFFSETFROM:+0100
TZOFFSETTO:+0200
TZNAME:Europe/Vienna CEST
END:DAYLIGHT
BEGIN:DAYLIGHT
DTSTART:20340326T030000
RDATE:20341029T020000
TZOFFSETFROM:+0100
TZOFFSETTO:+0200
TZNAME:Europe/Vienna CEST
END:DAYLIGHT
END:VTIMEZONE
BEGIN:VEVENT
UID:
CATEGORIES:ÖGMBT-Seminar OST
SUMMARY:Computational enzyme engineering: from academia to start up
LOCATION:Seminar room 12, Muthgasse 11,1190 Vienna
DESCRIPTION;ENCODING=QUOTED-PRINTABLE:<h2>	<strong>Dr. Fatima Lucas </strong></h2><p>	Zymvol Biomodeling:</p><p>	
 In&nbsp;&nbsp; &nbsp;this&nbsp;&nbsp; &nbsp;talk,&nbsp;&nbsp; &nbsp;Dr.&nbs
 p;&nbsp; &nbsp;Lucas&nbsp;&nbsp; &nbsp;will&nbsp;&nbsp; &nbsp;discuss&nbsp;
 &nbsp; &nbsp;how&nbsp;&nbsp; &nbsp;signiﬁcant&nbsp;&nbsp; &nbsp;advances&nb
 sp;&nbsp; &nbsp;have&nbsp;&nbsp; &nbsp;been&nbsp;&nbsp; &nbsp;made&nbsp;&nb
 sp; &nbsp;in the&nbsp;&nbsp; &nbsp;use&nbsp;&nbsp; &nbsp;of&nbsp;&nbsp; &nb
 sp;computersimula&#39;ons&nbsp;&nbsp; &nbsp;for&nbsp;&nbsp; &nbsp;enzyme&nb
 sp;&nbsp; &nbsp;engineering.&nbsp;&nbsp; &nbsp;We&nbsp;&nbsp; &nbsp;will&nb
 sp;&nbsp; &nbsp;see&nbsp;&nbsp; &nbsp;the importance&nbsp;&nbsp; &nbsp;of&n
 bsp;&nbsp; &nbsp;protein&nbsp;&nbsp; &nbsp;dynamics&nbsp;&nbsp; &nbsp;in&nb
 sp;&nbsp; &nbsp;crea&#39;ng&nbsp;&nbsp; &nbsp;a&nbsp;&nbsp; &nbsp;realis&#3
 9;c&nbsp;&nbsp; &nbsp;enzyme&nbsp;&nbsp; &nbsp;simulator&nbsp;&nbsp; &nbsp;
 and some&nbsp;&nbsp; &nbsp;examples&nbsp;&nbsp; &nbsp;will&nbsp;&nbsp; &nbs
 p;be&nbsp;&nbsp; &nbsp;shown.&nbsp;&nbsp; &nbsp;Finally,&nbsp;&nbsp; &nbsp;
 she&nbsp;&nbsp; &nbsp;will&nbsp;&nbsp; &nbsp;show&nbsp;&nbsp; &nbsp;how&nbs
 p;&nbsp; &nbsp;research&nbsp;&nbsp; &nbsp;can&nbsp;&nbsp; &nbsp;be eﬀec&#39
 ;vely&nbsp;&nbsp; &nbsp;transferred&nbsp;&nbsp; &nbsp;to&nbsp;&nbsp; &nbsp;
 industry&nbsp;&nbsp; &nbsp;and&nbsp;&nbsp; &nbsp;the&nbsp;&nbsp; &nbsp;chal
 lenges&nbsp;&nbsp; &nbsp;scien&#39;sts&nbsp;&nbsp; &nbsp;face&nbsp;&nbsp; &
 nbsp;in&nbsp;&nbsp; &nbsp;becoming entrepreneurs.</p><p>	Host:&nbsp;&nbsp; 
 &nbsp;Marita&nbsp;&nbsp; &nbsp;Preims&nbsp;&nbsp; &nbsp;and&nbsp;&nbsp; &nb
 sp;Linda&nbsp;&nbsp; &nbsp;Schwaigerlehner</p>
CONTACT:VIBT Seminar
DTSTAMP:20260424T022714Z
DTSTART;TZID=Europe/Vienna:20180226T161500
DTEND;TZID=Europe/Vienna:20180226T161500
SEQUENCE:1
TRANSP:OPAQUE
END:VEVENT
END:VCALENDAR